BEGIN:VCALENDAR
VERSION:2.0
PRODID:-//Brooklyn Community Board 14 - ECPv6.15.20//NONSGML v1.0//EN
CALSCALE:GREGORIAN
METHOD:PUBLISH
X-ORIGINAL-URL:https://cb14brooklyn.com
X-WR-CALDESC:Events for Brooklyn Community Board 14
REFRESH-INTERVAL;VALUE=DURATION:PT1H
X-Robots-Tag:noindex
X-PUBLISHED-TTL:PT1H
BEGIN:VTIMEZONE
TZID:America/New_York
BEGIN:DAYLIGHT
TZOFFSETFROM:-0500
TZOFFSETTO:-0400
TZNAME:EDT
DTSTART:20230312T070000
END:DAYLIGHT
BEGIN:STANDARD
TZOFFSETFROM:-0400
TZOFFSETTO:-0500
TZNAME:EST
DTSTART:20231105T060000
END:STANDARD
BEGIN:DAYLIGHT
TZOFFSETFROM:-0500
TZOFFSETTO:-0400
TZNAME:EDT
DTSTART:20240310T070000
END:DAYLIGHT
BEGIN:STANDARD
TZOFFSETFROM:-0400
TZOFFSETTO:-0500
TZNAME:EST
DTSTART:20241103T060000
END:STANDARD
BEGIN:DAYLIGHT
TZOFFSETFROM:-0500
TZOFFSETTO:-0400
TZNAME:EDT
DTSTART:20250309T070000
END:DAYLIGHT
BEGIN:STANDARD
TZOFFSETFROM:-0400
TZOFFSETTO:-0500
TZNAME:EST
DTSTART:20251102T060000
END:STANDARD
END:VTIMEZONE
BEGIN:VEVENT
DTSTART;TZID=America/New_York:20240311T184500
DTEND;TZID=America/New_York:20240311T210000
DTSTAMP:20260420T084100
CREATED:20230711T154217Z
LAST-MODIFIED:20240409T163102Z
UID:10000073-1710182700-1710190800@cb14brooklyn.com
SUMMARY:March 2024 Board Meeting and Public Hearing
DESCRIPTION:Date and Location\n\n\n\n\n\n\nEast Midwood Jewish Center – 1625 Ocean Avenue  (directions).   \n\n\n\n\n\n\n\n\nSchedule\n\n\n\n\n6:45 PM – Public Hearing on the Citywide Statement of Needs for City Facilities for Fiscal Years 2025 and 2026\n\n\n\n7:00 PM – Regular Monthly Meeting of Brooklyn Community Board 14\n\n\n\n\n\n\nAgenda\, Documents\, and Minutes\n\n\n\n\n			\n			Board Meeting Agenda\n			\n		\n			\n\n\nCALL TO ORDER\n\n\n\nMINUTES\n\n\n\nDISTRICT MANAGER’S REPORT\n\n\n\nCHAIR’S REPORT\n\nRecommendation – Citywide Statement of Needs for City Facilities for Fiscal Years 2025 and 2026 \n\n\n\nBorough Board Report\n\n\n\nElection of OfficersChair: Karl-Henry CesarFirst Vice-Chair Candidates: Edward Cen\, Elizabeth Denys Second Vice-Chair: Hindy Bendel Third Vice-Chair: Shahid KhanSecretary: Florencia Chang-AgedaMembers at Large (2): Eric Ost\, Deborah Valentin \n\n\n\nAd-Hoc Transition Committee Appointments\n\n\n\n\n\nTOPICAL COMMITTEES – REPORTS AND ITEMS:\n\nYouth Services\, Education and Libraries Committee Committee\n\n\n\nCommunity Environment\, Cultural Affairs and Economic Development Committee \n\n\n\nHousing and Land Use Committee\n\n\n\nTransportation Committee\n\n\n\nCommunity Safety Committee \n\n\n\nHuman Services Committee \n\n\n\n\n\nPUBLIC SESSION\n\n\n\nADJOURNMENT\n\n\n\n		\n\n\n			\n			Hearing Documents\n			\n		\n			\n\nFY 2025-2026-Citywide Statement of NeedsDownload\n\n\n		\n\n\n			\n			Minutes\n			\n		\n			\n\n \n\n\n\n2024-03-Board Meeting Minutes-RatifiedDownload
URL:https://cb14brooklyn.com/meeting/march-2024-board-meeting/
LOCATION:East Midwood Jewish Center\, 1625 Ocean Avenue\, Brooklyn\, New York\, 11230\, United States
CATEGORIES:Board Meetings,Public Hearings
END:VEVENT
END:VCALENDAR