BEGIN:VCALENDAR
VERSION:2.0
PRODID:-//Brooklyn Community Board 14 - ECPv6.15.20//NONSGML v1.0//EN
CALSCALE:GREGORIAN
METHOD:PUBLISH
X-WR-CALNAME:Brooklyn Community Board 14
X-ORIGINAL-URL:https://cb14brooklyn.com
X-WR-CALDESC:Events for Brooklyn Community Board 14
REFRESH-INTERVAL;VALUE=DURATION:PT1H
X-Robots-Tag:noindex
X-PUBLISHED-TTL:PT1H
BEGIN:VTIMEZONE
TZID:America/New_York
BEGIN:DAYLIGHT
TZOFFSETFROM:-0500
TZOFFSETTO:-0400
TZNAME:EDT
DTSTART:20240310T070000
END:DAYLIGHT
BEGIN:STANDARD
TZOFFSETFROM:-0400
TZOFFSETTO:-0500
TZNAME:EST
DTSTART:20241103T060000
END:STANDARD
BEGIN:DAYLIGHT
TZOFFSETFROM:-0500
TZOFFSETTO:-0400
TZNAME:EDT
DTSTART:20250309T070000
END:DAYLIGHT
BEGIN:STANDARD
TZOFFSETFROM:-0400
TZOFFSETTO:-0500
TZNAME:EST
DTSTART:20251102T060000
END:STANDARD
BEGIN:DAYLIGHT
TZOFFSETFROM:-0500
TZOFFSETTO:-0400
TZNAME:EDT
DTSTART:20260308T070000
END:DAYLIGHT
BEGIN:STANDARD
TZOFFSETFROM:-0400
TZOFFSETTO:-0500
TZNAME:EST
DTSTART:20261101T060000
END:STANDARD
END:VTIMEZONE
BEGIN:VEVENT
DTSTART;TZID=America/New_York:20250310T190000
DTEND;TZID=America/New_York:20250310T210000
DTSTAMP:20260419T124638
CREATED:20240528T165817Z
LAST-MODIFIED:20250416T173018Z
UID:10000127-1741633200-1741640400@cb14brooklyn.com
SUMMARY:March 2025 Board Meeting
DESCRIPTION:Date and Location\n\n\n\n\n\n\nEast Midwood Jewish Center – 1625 Ocean Avenue  (directions). \n\n\n\n\n\n\n\n\nAgenda and Minutes\n\n\n\n\n			\n			Board Meeting Agenda\n			\n		\n			\n\n\nCALL TO ORDER\n\n\n\nMINUTES\n\n\n\nDISTRICT MANAGER’S REPORT\n\n\n\nCHAIR’S REPORT\n\nRecommendation – NYC Preliminary Budget Statement and Register of Budget Requests for Fiscal Year 2026\n\n\n\nCommittee of the Whole Report\n\n\n\nBorough Board Report\n\n\n\nElection of Officers:\n\nChair: Karl-Henry Cesar\n\n\n\nFirst Vice Chair Candidates: Donald Loggins\, Eric Ost\n\n\n\nSecond Vice Chair: Deborah Valentin\n\n\n\nThird Vice Chair: Ornella Parker\n\n\n\nSecretary: Florencia Chang-Ageda\n\n\n\nMembers at Large (2): Binyomin Bendet\, Moussa Hassoun\n\n\n\n\n\n\n\nTOPICAL COMMITTEES – REPORTS AND ITEMS:\n\nTransportation Committee\n\n\n\nCommunity Environment\, Cultural Affairs and Economic Development Committee\n\n\n\nHousing and Land Use Committee\n\n\n\nCommunity Safety Committee\n\n\n\nHuman Services Committee  \n\n\n\nYouth Services\, Education and Libraries Committee\n\n\n\n\n\nAD HOC COMMITTEES\n\nTransition Committee\n\n\n\n\n\nPUBLIC SESSION\n\n\n\nADJOURNMENT\n\n\n\n		\n\n\n			\n			Minutes\n			\n		\n			\n\nMinutes-2025-03-Board Meeting Minutes with addenda-RatifiedDownload
URL:https://cb14brooklyn.com/meeting/march-2025-board-meeting/
LOCATION:East Midwood Jewish Center\, 1625 Ocean Avenue\, Brooklyn\, New York\, 11230\, United States
CATEGORIES:Board Meetings
END:VEVENT
END:VCALENDAR