BEGIN:VCALENDAR
VERSION:2.0
PRODID:-//Brooklyn Community Board 14 - ECPv6.15.20//NONSGML v1.0//EN
CALSCALE:GREGORIAN
METHOD:PUBLISH
X-ORIGINAL-URL:https://cb14brooklyn.com
X-WR-CALDESC:Events for Brooklyn Community Board 14
REFRESH-INTERVAL;VALUE=DURATION:PT1H
X-Robots-Tag:noindex
X-PUBLISHED-TTL:PT1H
BEGIN:VTIMEZONE
TZID:America/New_York
BEGIN:DAYLIGHT
TZOFFSETFROM:-0500
TZOFFSETTO:-0400
TZNAME:EDT
DTSTART:20240310T070000
END:DAYLIGHT
BEGIN:STANDARD
TZOFFSETFROM:-0400
TZOFFSETTO:-0500
TZNAME:EST
DTSTART:20241103T060000
END:STANDARD
BEGIN:DAYLIGHT
TZOFFSETFROM:-0500
TZOFFSETTO:-0400
TZNAME:EDT
DTSTART:20250309T070000
END:DAYLIGHT
BEGIN:STANDARD
TZOFFSETFROM:-0400
TZOFFSETTO:-0500
TZNAME:EST
DTSTART:20251102T060000
END:STANDARD
BEGIN:DAYLIGHT
TZOFFSETFROM:-0500
TZOFFSETTO:-0400
TZNAME:EDT
DTSTART:20260308T070000
END:DAYLIGHT
BEGIN:STANDARD
TZOFFSETFROM:-0400
TZOFFSETTO:-0500
TZNAME:EST
DTSTART:20261101T060000
END:STANDARD
END:VTIMEZONE
BEGIN:VEVENT
DTSTART;TZID=America/New_York:20250407T181500
DTEND;TZID=America/New_York:20250407T210000
DTSTAMP:20260419T105558
CREATED:20240528T165919Z
LAST-MODIFIED:20250520T141555Z
UID:10000128-1744049700-1744059600@cb14brooklyn.com
SUMMARY:April 2025 Board Meeting and Public Hearings on Dining Out NYC Applications
DESCRIPTION:Date and Location\n\n\n\n\n\n\nEast Midwood Jewish Center – 1625 Ocean Avenue  (directions). \n\n\n\n\n\n\n\n\nSchedule\n\n\n\n\nPublic Hearings on Dining Out NYC Applications:\n\n6:15 PM – Café Madeline\, 1603 Cortelyou Road\, Sidewalk Café\n\n\n\n6:25 PM – Werkstatt\, 509 Coney Island Avenue\, Sidewalk Café\n\n\n\n6:35 PM – Mimi’s\, 1035 Cortelyou Road\, Sidewalk Café\n\n\n\n6:45 PM – Lea\, 1022 Cortelyou Road\, Roadway Café\n\n\n\n\n\n7:00 PM – Regular Monthly Meeting of Brooklyn Community Board 14\n\n\n\n\n\n\nAgenda and Minutes\n\n\n\n\n			\n			Board Meeting Agenda\n			\n		\n			\n\n\nCALL TO ORDER\n\n\n\nMINUTES\n\n\n\nDISTRICT MANAGER’S REPORT\n\n\n\nCHAIR’S REPORT\n\nRecommendation – Café Madeline\, 1603 Cortelyou Road\, Sidewalk Café\n\n\n\nRecommendation – Werkstatt\, 509 Coney Island Avenue\, Sidewalk Café\n\n\n\nRecommendation – Mimi’s\, 1035 Cortelyou Road\, Sidewalk Café\n\n\n\nRecommendation – Lea\, 1022 Cortelyou Road\, Roadway Café\n\n\n\nBorough Board Report\n\n\n\n\n\nTOPICAL COMMITTEES – REPORTS AND ITEMS:\n\nCommunity Safety Committee \n\n\n\nHousing and Land Use Committee\n\n\n\nHuman Services Committee\n\n\n\nCommunity Environment\, Cultural Affairs and Economic Development Committee\n\n\n\nTransportation Committee \n\n\n\nYouth Services\, Education and Libraries Committee\n\n\n\n\n\nAD HOC COMMITTEES\n\nTransition Committee\n\n\n\n\n\nPUBLIC SESSION\n\n\n\nADJOURNMENT\n\n\n\n		\n\n\n			\n			Minutes\n			\n		\n			\n\n2025-04-Board Meeting Minutes-RatifiedDownload
URL:https://cb14brooklyn.com/meeting/april-2025-board-meeting/
LOCATION:East Midwood Jewish Center\, 1625 Ocean Avenue\, Brooklyn\, New York\, 11230\, United States
CATEGORIES:Board Meetings,Public Hearings
END:VEVENT
END:VCALENDAR