BEGIN:VCALENDAR
VERSION:2.0
PRODID:-//Brooklyn Community Board 14 - ECPv6.15.20//NONSGML v1.0//EN
CALSCALE:GREGORIAN
METHOD:PUBLISH
X-WR-CALNAME:Brooklyn Community Board 14
X-ORIGINAL-URL:https://cb14brooklyn.com
X-WR-CALDESC:Events for Brooklyn Community Board 14
REFRESH-INTERVAL;VALUE=DURATION:PT1H
X-Robots-Tag:noindex
X-PUBLISHED-TTL:PT1H
BEGIN:VTIMEZONE
TZID:America/New_York
BEGIN:DAYLIGHT
TZOFFSETFROM:-0500
TZOFFSETTO:-0400
TZNAME:EDT
DTSTART:20220313T070000
END:DAYLIGHT
BEGIN:STANDARD
TZOFFSETFROM:-0400
TZOFFSETTO:-0500
TZNAME:EST
DTSTART:20221106T060000
END:STANDARD
BEGIN:DAYLIGHT
TZOFFSETFROM:-0500
TZOFFSETTO:-0400
TZNAME:EDT
DTSTART:20230312T070000
END:DAYLIGHT
BEGIN:STANDARD
TZOFFSETFROM:-0400
TZOFFSETTO:-0500
TZNAME:EST
DTSTART:20231105T060000
END:STANDARD
BEGIN:DAYLIGHT
TZOFFSETFROM:-0500
TZOFFSETTO:-0400
TZNAME:EDT
DTSTART:20240310T070000
END:DAYLIGHT
BEGIN:STANDARD
TZOFFSETFROM:-0400
TZOFFSETTO:-0500
TZNAME:EST
DTSTART:20241103T060000
END:STANDARD
END:VTIMEZONE
BEGIN:VEVENT
DTSTART;TZID=America/New_York:20230201T183000
DTEND;TZID=America/New_York:20230201T203000
DTSTAMP:20260422T141000
CREATED:20230302T223616Z
LAST-MODIFIED:20230328T150656Z
UID:10000035-1675276200-1675283400@cb14brooklyn.com
SUMMARY:Housing and Land Use Committee Meeting
DESCRIPTION:Date and Location\n\n\n\n\n\n\nOnline via Webex \n\n\n\n\n\n\nAgenda\n\n\n\n\nCommittee conversation regarding the Brooklyn Borough President’s Comprehensive Plan topics for Community District 14\n\n\n\nOther business
URL:https://cb14brooklyn.com/meeting/housing-and-land-use-committee-meeting-february-2023/
LOCATION:Online via Webex
CATEGORIES:Committee Meetings,Housing and Land Use
ORGANIZER;CN="Brooklyn CB14":MAILTO:meetings@cb14brooklyn.com
END:VEVENT
BEGIN:VEVENT
DTSTART;TZID=America/New_York:20230202T120000
DTEND;TZID=America/New_York:20230202T140000
DTSTAMP:20260422T141000
CREATED:20230302T222256Z
LAST-MODIFIED:20230328T152544Z
UID:10000034-1675339200-1675346400@cb14brooklyn.com
SUMMARY:Nominating Committee Meeting
DESCRIPTION:Date and Location\n\n\n\n\n\n\nOnline via Webex \n\n\n\n\n\n\nAgenda\n\n\n\n\nAppointment of Committee Chairperson\n\n\n\nDiscussion of Executive Committee nominations\n\n\n\nOther business
URL:https://cb14brooklyn.com/meeting/nominating-committee-meeting-february-2023/
LOCATION:Online via Webex
CATEGORIES:Committee Meetings,Nominating
END:VEVENT
BEGIN:VEVENT
DTSTART;TZID=America/New_York:20230209T100000
DTEND;TZID=America/New_York:20230209T130000
DTSTAMP:20260422T141000
CREATED:20230302T221402Z
LAST-MODIFIED:20230328T152721Z
UID:10000033-1675936800-1675947600@cb14brooklyn.com
SUMMARY:11th Annual Nonprofit Roundtable
DESCRIPTION:Date and Location\n\n\n\n\n\nEast Midwood Jewish Center – 1625 Ocean Avenue Brooklyn\, 11230 \n\n\n\n\nRepresentatives from nonprofit organizations and elected officials are invited to register to attend the 11th Annual CB14 Nonprofit Roundtable to participate in a conversation about district nonprofit services and resources.  \n\n\n\nInterested organizations should contact the Community Board 14 office at info@cb14brooklyn.com or 718-859-6357. \n\n\n\nThis meeting is open only to invited nonprofit and city agency staff. \n\n\n\n\n\n\n\n\n\n\n			\n			Presentation\n			\n		\n			\n\nBelow you can view/download the presentation by NYC Service. \n\n\n\n2023-NonprofitRoundtable-NYCServicePresentationDownload
URL:https://cb14brooklyn.com/meeting/11th-annual-nonprofit-roundtable/
LOCATION:East Midwood Jewish Center\, 1625 Ocean Avenue\, Brooklyn\, New York\, 11230\, United States
CATEGORIES:CB14 Events,Human Services,Nonprofit Roundtable
ORGANIZER;CN="Brooklyn CB14":MAILTO:meetings@cb14brooklyn.com
END:VEVENT
BEGIN:VEVENT
DTSTART;TZID=America/New_York:20230223T183000
DTEND;TZID=America/New_York:20230223T203000
DTSTAMP:20260422T141000
CREATED:20230203T215033Z
LAST-MODIFIED:20230328T153246Z
UID:10000019-1677177000-1677184200@cb14brooklyn.com
SUMMARY:Community Environment\, Cultural Affairs and Economic Development Committee Meeting
DESCRIPTION:Date and Location\n\n\n\n\n\n\nOnline via Webex \n\n\n\n\n\n\nAgenda\n\n\n\n\nPresentation on the merger of the Flatbush Avenue BID and the Church Avenue BID\, Lauren Elvers Collins\, Executive Director\n\n\n\nReport on NYC Rules Governing Tobacco Sales\, Edward Cen\, Senior Community Affairs Associate\, NYC Department of Consumer and Worker Protection\n\n\n\nAn overview of NYC Free Tax Prep & Financial Empowerment Centers\, Edward Cen\, NYC Department of Consumer and Worker Protection\n\n\n\nOther business
URL:https://cb14brooklyn.com/meeting/community-environment-cultural-affairs-and-economic-development-committee-meeting-february-2023/
LOCATION:Online via Webex
CATEGORIES:Committee Meetings,Community Environment, Cultural Affairs and Economic Development
END:VEVENT
BEGIN:VEVENT
DTSTART;TZID=America/New_York:20230227T183000
DTEND;TZID=America/New_York:20230227T203000
DTSTAMP:20260422T141000
CREATED:20230302T220900Z
LAST-MODIFIED:20230328T153355Z
UID:10000032-1677522600-1677529800@cb14brooklyn.com
SUMMARY:Youth Services\, Education and Libraries Committee Meeting
DESCRIPTION:Date and Location\n\n\n\n\n\n\nOnline via Webex \n\n\n\n\n\n\nAgenda\n\n\n\n\nContinued planning for 2023 Annual Youth Conference\n\n\n\nOther business
URL:https://cb14brooklyn.com/meeting/youth-services-education-and-libraries-committee-meeting-february-2023/
LOCATION:Online via Webex
CATEGORIES:Committee Meetings,Youth Services, Education and Libraries
END:VEVENT
END:VCALENDAR