BEGIN:VCALENDAR
VERSION:2.0
PRODID:-//Brooklyn Community Board 14 - ECPv6.15.20//NONSGML v1.0//EN
CALSCALE:GREGORIAN
METHOD:PUBLISH
X-WR-CALNAME:Brooklyn Community Board 14
X-ORIGINAL-URL:https://cb14brooklyn.com
X-WR-CALDESC:Events for Brooklyn Community Board 14
REFRESH-INTERVAL;VALUE=DURATION:PT1H
X-Robots-Tag:noindex
X-PUBLISHED-TTL:PT1H
BEGIN:VTIMEZONE
TZID:America/New_York
BEGIN:DAYLIGHT
TZOFFSETFROM:-0500
TZOFFSETTO:-0400
TZNAME:EDT
DTSTART:20220313T070000
END:DAYLIGHT
BEGIN:STANDARD
TZOFFSETFROM:-0400
TZOFFSETTO:-0500
TZNAME:EST
DTSTART:20221106T060000
END:STANDARD
BEGIN:DAYLIGHT
TZOFFSETFROM:-0500
TZOFFSETTO:-0400
TZNAME:EDT
DTSTART:20230312T070000
END:DAYLIGHT
BEGIN:STANDARD
TZOFFSETFROM:-0400
TZOFFSETTO:-0500
TZNAME:EST
DTSTART:20231105T060000
END:STANDARD
BEGIN:DAYLIGHT
TZOFFSETFROM:-0500
TZOFFSETTO:-0400
TZNAME:EDT
DTSTART:20240310T070000
END:DAYLIGHT
BEGIN:STANDARD
TZOFFSETFROM:-0400
TZOFFSETTO:-0500
TZNAME:EST
DTSTART:20241103T060000
END:STANDARD
END:VTIMEZONE
BEGIN:VEVENT
DTSTART;TZID=America/New_York:20231011T183000
DTEND;TZID=America/New_York:20231011T203000
DTSTAMP:20260420T140732
CREATED:20230925T153725Z
LAST-MODIFIED:20231017T162303Z
UID:10000082-1697049000-1697056200@cb14brooklyn.com
SUMMARY:Budget Committee Meeting
DESCRIPTION:Date and Location\n\n\n\n\n\n\nCB14 District Office – 810 East 16th Street  (directions).   \n\n\n\n\n\n\n\n\nAgenda\n\n\n\n\nDiscussion about NYC Capital and Expense Budgets for Fiscal Year 2025\n\n\n\nOther business\n\n\n\n\n\n\n			\n			District Needs Statement Fiscal Year 2024\n			\n		\n			\n\n2024-FY24_DistrictNeedsStatement_BK14Download
URL:https://cb14brooklyn.com/meeting/budget-committee-meeting-october-2023/
LOCATION:Brooklyn CB14 District Office\, 810 East 16th Street\, Brooklyn\, NY\, 11230\, United States
CATEGORIES:Budget,CB14 Meetings,Committee Meetings
END:VEVENT
BEGIN:VEVENT
DTSTART;TZID=America/New_York:20231018T183000
DTEND;TZID=America/New_York:20231018T203000
DTSTAMP:20260420T140732
CREATED:20230925T153909Z
LAST-MODIFIED:20231115T170110Z
UID:10000083-1697653800-1697661000@cb14brooklyn.com
SUMMARY:Executive Committee Meeting
DESCRIPTION:Date and Location\n\n\n\n\n\n\nCB14 District Office – 810 East 16th Street  (directions).   \n\n\n\n\n\n\n\n\nAgenda\n\n\n\n\nElection to fill vacancies in the Executive Committee\n\n\n\nOther business
URL:https://cb14brooklyn.com/meeting/executive-committee-meeting-october-2023/
LOCATION:Brooklyn CB14 District Office\, 810 East 16th Street\, Brooklyn\, NY\, 11230\, United States
CATEGORIES:CB14 Meetings,Committee Meetings,Executive
END:VEVENT
BEGIN:VEVENT
DTSTART;TZID=America/New_York:20231024T183000
DTEND;TZID=America/New_York:20231024T203000
DTSTAMP:20260420T140732
CREATED:20230925T154426Z
LAST-MODIFIED:20231115T170539Z
UID:10000087-1698172200-1698179400@cb14brooklyn.com
SUMMARY:Community Safety Committee Meeting
DESCRIPTION:Date and Location\n\n\n\n\n\n\nOnline via Webex \n\n\n\n\n\n\n\n\nAgenda\n\n\n\n\nState of the Precinct\, Crime Prevention Tips\, Precinct Community Programs Report – Inspector Bruce Ceparano\, Commanding Officer\, 70th Precinct\, NYPD\n\n\n\nCB14 District Needs Statement and budget priorities pertaining to Community Safety\n\n\n\nSuggested topics for future meetings\n\n\n\nOther business
URL:https://cb14brooklyn.com/meeting/community-safety-committee-meeting-october-2023/
LOCATION:Online via Webex
CATEGORIES:Committee Meetings,Community Safety
ORGANIZER;CN="Brooklyn CB14":MAILTO:meetings@cb14brooklyn.com
END:VEVENT
END:VCALENDAR