BEGIN:VCALENDAR
VERSION:2.0
PRODID:-//Brooklyn Community Board 14 - ECPv6.15.20//NONSGML v1.0//EN
CALSCALE:GREGORIAN
METHOD:PUBLISH
X-ORIGINAL-URL:https://cb14brooklyn.com
X-WR-CALDESC:Events for Brooklyn Community Board 14
REFRESH-INTERVAL;VALUE=DURATION:PT1H
X-Robots-Tag:noindex
X-PUBLISHED-TTL:PT1H
BEGIN:VTIMEZONE
TZID:America/New_York
BEGIN:DAYLIGHT
TZOFFSETFROM:-0500
TZOFFSETTO:-0400
TZNAME:EDT
DTSTART:20230312T070000
END:DAYLIGHT
BEGIN:STANDARD
TZOFFSETFROM:-0400
TZOFFSETTO:-0500
TZNAME:EST
DTSTART:20231105T060000
END:STANDARD
BEGIN:DAYLIGHT
TZOFFSETFROM:-0500
TZOFFSETTO:-0400
TZNAME:EDT
DTSTART:20240310T070000
END:DAYLIGHT
BEGIN:STANDARD
TZOFFSETFROM:-0400
TZOFFSETTO:-0500
TZNAME:EST
DTSTART:20241103T060000
END:STANDARD
BEGIN:DAYLIGHT
TZOFFSETFROM:-0500
TZOFFSETTO:-0400
TZNAME:EDT
DTSTART:20250309T070000
END:DAYLIGHT
BEGIN:STANDARD
TZOFFSETFROM:-0400
TZOFFSETTO:-0500
TZNAME:EST
DTSTART:20251102T060000
END:STANDARD
END:VTIMEZONE
BEGIN:VEVENT
DTSTART;TZID=America/New_York:20240207T180000
DTEND;TZID=America/New_York:20240207T184500
DTSTAMP:20260420T070258
CREATED:20240117T192821Z
LAST-MODIFIED:20240213T162626Z
UID:10000104-1707328800-1707331500@cb14brooklyn.com
SUMMARY:Nominating Committee Meeting
DESCRIPTION:Date and Location\n\n\n\n\n\n\nCB14 District Office – 810 East 16th Street  (directions).   \n\n\n\n\n\n\n\n\nAgenda\n\n\n\n\nAppointment of Committee Chairperson\n\n\n\nDiscussion of Executive Committee nominations\n\n\n\nOther business
URL:https://cb14brooklyn.com/meeting/nominating-committee-meeting-february-2024/
LOCATION:Brooklyn CB14 District Office\, 810 East 16th Street\, Brooklyn\, NY\, 11230\, United States
CATEGORIES:Committee Meetings,Nominating
END:VEVENT
BEGIN:VEVENT
DTSTART;TZID=America/New_York:20240221T183000
DTEND;TZID=America/New_York:20240221T203000
DTSTAMP:20260420T070258
CREATED:20240117T190155Z
LAST-MODIFIED:20240306T161440Z
UID:10000106-1708540200-1708547400@cb14brooklyn.com
SUMMARY:Youth Services\, Education and Libraries Committee Meeting
DESCRIPTION:Date and Location\n\n\n\n\n\n\nOnline via Webex \n\n\n\n\n\n\n\n\nAgenda\n\n\n\n\nFinal planning session for CB14’s 2024 Annual Youth Conference\n\n\n\nVolunteers and assignments for Youth Conference\n\n\n\nOther business
URL:https://cb14brooklyn.com/meeting/youth-services-education-and-libraries-committee-meeting-february-2024/
LOCATION:Online via Webex
CATEGORIES:Committee Meetings,Youth Services, Education and Libraries
END:VEVENT
BEGIN:VEVENT
DTSTART;TZID=America/New_York:20240227T183000
DTEND;TZID=America/New_York:20240227T203000
DTSTAMP:20260420T070258
CREATED:20240117T190014Z
LAST-MODIFIED:20240319T173055Z
UID:10000107-1709058600-1709065800@cb14brooklyn.com
SUMMARY:Community Environment\, Cultural Affairs and Economic Development Committee Meeting
DESCRIPTION:Date and Location\n\n\n\n\n\n\nOnline via Webex \n\n\n\n\n\n\n\n\nAgenda\n\n\n\n\nPresentation on the Gravesend Tributary project and plans to install green infrastructure in CD 14 – Grant Ewing\, Borough Director\, Department of Design and Construction\, and Harry Lopez\, Project Director GKOH15-10\n\n\n\nPresentation on free tax preparation programs in Brooklyn – Mohammed Kibria\, Community Affairs Associate\, New York City Department of Consumer and Worker Protection\n\n\n\nNew requirement to containerize business trash – Katherine Belka\, Department of Sanitation\n\n\n\nLet’s Green NYC program to increase volunteerism in city parks – Elizabeth Walsack\, Department of Parks & Recreation\n\n\n\nOther business\n\n\n\n\n\n2024-02-27-GKOH15-01 CB PresentationDownload\n\n\n\n\n\n\n\n2024-NYC Free Tax Prep Flyer – English (1)Download
URL:https://cb14brooklyn.com/meeting/community-environment-cultural-affairs-and-economic-development-committee-meeting-february-2024/
LOCATION:Online via Webex
CATEGORIES:Committee Meetings,Community Environment, Cultural Affairs and Economic Development
END:VEVENT
END:VCALENDAR