BEGIN:VCALENDAR
VERSION:2.0
PRODID:-//Brooklyn Community Board 14 - ECPv6.15.20//NONSGML v1.0//EN
CALSCALE:GREGORIAN
METHOD:PUBLISH
X-ORIGINAL-URL:https://cb14brooklyn.com
X-WR-CALDESC:Events for Brooklyn Community Board 14
REFRESH-INTERVAL;VALUE=DURATION:PT1H
X-Robots-Tag:noindex
X-PUBLISHED-TTL:PT1H
BEGIN:VTIMEZONE
TZID:America/New_York
BEGIN:DAYLIGHT
TZOFFSETFROM:-0500
TZOFFSETTO:-0400
TZNAME:EDT
DTSTART:20230312T070000
END:DAYLIGHT
BEGIN:STANDARD
TZOFFSETFROM:-0400
TZOFFSETTO:-0500
TZNAME:EST
DTSTART:20231105T060000
END:STANDARD
BEGIN:DAYLIGHT
TZOFFSETFROM:-0500
TZOFFSETTO:-0400
TZNAME:EDT
DTSTART:20240310T070000
END:DAYLIGHT
BEGIN:STANDARD
TZOFFSETFROM:-0400
TZOFFSETTO:-0500
TZNAME:EST
DTSTART:20241103T060000
END:STANDARD
BEGIN:DAYLIGHT
TZOFFSETFROM:-0500
TZOFFSETTO:-0400
TZNAME:EDT
DTSTART:20250309T070000
END:DAYLIGHT
BEGIN:STANDARD
TZOFFSETFROM:-0400
TZOFFSETTO:-0500
TZNAME:EST
DTSTART:20251102T060000
END:STANDARD
END:VTIMEZONE
BEGIN:VEVENT
DTSTART;TZID=America/New_York:20241106T183000
DTEND;TZID=America/New_York:20241106T203000
DTSTAMP:20260419T153711
CREATED:20241022T133759Z
LAST-MODIFIED:20241115T195014Z
UID:10000141-1730917800-1730925000@cb14brooklyn.com
SUMMARY:Transportation Committee Meeting
DESCRIPTION:Date and Location\n\n\n\n\n\n\nOnline via Webex \n\n\n\n\n\n\n\n\nAgenda\n\n\n\n\nPresentation on the Bike Lane Network in CD14 – Lauren Martin\, Project Manager\, and Shawn Macias\, Senior Deputy Director\, Project Development & Design\, Bicycle Unit\, NYC Department of Transportation\n\n\n\nStatus of Capital Projects in CD14 and Overview of 5-Year Capital Plan – Katerina Patouri\, Assistant Director\, Government & Community Relations\, NYCT Metropolitan Transportation Authority\n\n\n\nOther Business  \n\n\n\n\n\n24-11-06-bk-cd14-bike-network-expansion-nov2024Download\n\n\n\n24-11-06-2025-2029 Capital Plan Local Outreach_CB14_Nov2024Download
URL:https://cb14brooklyn.com/meeting/transportation-committee-meeting-november-2024/
LOCATION:Online via Webex
CATEGORIES:Committee Meetings,Transportation
ORGANIZER;CN="Brooklyn CB14":MAILTO:meetings@cb14brooklyn.com
END:VEVENT
BEGIN:VEVENT
DTSTART;TZID=America/New_York:20241112T183000
DTEND;TZID=America/New_York:20241112T203000
DTSTAMP:20260419T153711
CREATED:20241022T133856Z
LAST-MODIFIED:20241115T205742Z
UID:10000140-1731436200-1731443400@cb14brooklyn.com
SUMMARY:Housing and Land Use Committee Meeting
DESCRIPTION:Date and Location\n\n\n\n\n\n\nOnline via Webex \n\n\n\n\n\n\n\n\nAgenda\n\n\n\n\nOverview of Office of Rent Administration Services and Public Information Access Points\, Updates on Recent Rent Registration and Individual Apartment Improvement Initiatives and Information on the Tenant Protection Unit – DJ Kwon\, Office of Rent Administration\, and Tom Mennecke and Brittany Taylor\, Senior Attorneys\, Tenant Protection Unit\, NY State Department of Homes and Community Renewal\n\n\n\nPrograms Offered by NHS Brooklyn – Tyrone McDonald\, Government & Community Relations Manager\, NHS Brooklyn\n\n\n\nUpdates on Good Cause Eviction Rules – Jonathan Goss\, Director of Neighborhood Preservation Services\, Housing and Family Services of Greater New York\n\n\n\nOther Business\n\n\n\n\n\n24-11-12-TPU_PresentationDownload\n\n\n\n24-11-12-nhsbrooklyn.general.presentationDownload\n\n\n\n24-11-12-Good Cause EvictionDownload
URL:https://cb14brooklyn.com/meeting/housing-and-land-use-committee-meeting-november-2024/
LOCATION:Online via Webex
CATEGORIES:Committee Meetings,Housing and Land Use
END:VEVENT
BEGIN:VEVENT
DTSTART;TZID=America/New_York:20241119T183000
DTEND;TZID=America/New_York:20241119T203000
DTSTAMP:20260419T153711
CREATED:20241022T134119Z
LAST-MODIFIED:20241203T150228Z
UID:10000142-1732041000-1732048200@cb14brooklyn.com
SUMMARY:Human Services Committee Meeting
DESCRIPTION:Date and Location\n\n\n\n\n\n\nOnline via Webex \n\n\n\n\n\n\n\n\nAgenda\n\n\n\n\nStatus of SUNY Downstate Medical Center\, Plans for the Future\, and Establishing a Community Advisory Board – Debbie Louis\, Office of NYS Governor Kathy Hochul\n\n\n\nCurrent Programs and Services – Alishia Goodridge\, SUNY Downstate\n\n\n\n Mission\, Vision\, Youth Activities and Programs – Andrew Hidalgo\, South Brooklyn Connected Community (SBCC)\n\n\n\nOther Business
URL:https://cb14brooklyn.com/meeting/human-services-committee-meeting-november-2024/
LOCATION:Online via Webex
CATEGORIES:Committee Meetings,Human Services
END:VEVENT
END:VCALENDAR