BEGIN:VCALENDAR
VERSION:2.0
PRODID:-//Brooklyn Community Board 14 - ECPv6.15.20//NONSGML v1.0//EN
CALSCALE:GREGORIAN
METHOD:PUBLISH
X-ORIGINAL-URL:https://cb14brooklyn.com
X-WR-CALDESC:Events for Brooklyn Community Board 14
REFRESH-INTERVAL;VALUE=DURATION:PT1H
X-Robots-Tag:noindex
X-PUBLISHED-TTL:PT1H
BEGIN:VTIMEZONE
TZID:America/New_York
BEGIN:DAYLIGHT
TZOFFSETFROM:-0500
TZOFFSETTO:-0400
TZNAME:EDT
DTSTART:20240310T070000
END:DAYLIGHT
BEGIN:STANDARD
TZOFFSETFROM:-0400
TZOFFSETTO:-0500
TZNAME:EST
DTSTART:20241103T060000
END:STANDARD
BEGIN:DAYLIGHT
TZOFFSETFROM:-0500
TZOFFSETTO:-0400
TZNAME:EDT
DTSTART:20250309T070000
END:DAYLIGHT
BEGIN:STANDARD
TZOFFSETFROM:-0400
TZOFFSETTO:-0500
TZNAME:EST
DTSTART:20251102T060000
END:STANDARD
BEGIN:DAYLIGHT
TZOFFSETFROM:-0500
TZOFFSETTO:-0400
TZNAME:EDT
DTSTART:20260308T070000
END:DAYLIGHT
BEGIN:STANDARD
TZOFFSETFROM:-0400
TZOFFSETTO:-0500
TZNAME:EST
DTSTART:20261101T060000
END:STANDARD
END:VTIMEZONE
BEGIN:VEVENT
DTSTART;TZID=America/New_York:20250116T183000
DTEND;TZID=America/New_York:20250116T203000
DTSTAMP:20260419T120934
CREATED:20241220T202333Z
LAST-MODIFIED:20250123T151026Z
UID:10000149-1737052200-1737059400@cb14brooklyn.com
SUMMARY:Transition Committee Meeting
DESCRIPTION:Date and Location\n\n\n\n\n\n\nOnline via Webex \n\n\n\n\n\n\n\n\nAgenda\n\n\n\n\nCB14 Institutional Knowledge Sharing—Legacy Board Members\n\n\n\nCommunity Board and Community District Composition\n\n\n\nOther Business
URL:https://cb14brooklyn.com/meeting/transition-committee-meeting-january-2025/
LOCATION:Online via Webex
CATEGORIES:CB14 Meetings,Committee Meetings
END:VEVENT
BEGIN:VEVENT
DTSTART;TZID=America/New_York:20250122T183000
DTEND;TZID=America/New_York:20250122T203000
DTSTAMP:20260419T120934
CREATED:20241220T202616Z
LAST-MODIFIED:20250123T151824Z
UID:10000150-1737570600-1737577800@cb14brooklyn.com
SUMMARY:Human Services Committee Meeting
DESCRIPTION:Date and Location\n\n\n\n\n\n\nOnline via Webex \n\n\n\n\n\n\n\n\nAgenda\n\n\n\n\nPresentation on Street Homeless Advocacy Project—Norman Siegel\, Founder\, Street Homeless Advocacy Project\n\n\n\nPresentation on Brookdale Hospital Budget Cuts and their Impact on Community Care—Sharon Devonish-Leid\, Vice President of External Affairs\, One Brooklyn Health Brookdale University Hospital Medical Center\n\n\n\nOther Business
URL:https://cb14brooklyn.com/meeting/human-services-committee-meeting-january-2025/
LOCATION:Online via Webex
CATEGORIES:Committee Meetings,Human Services
END:VEVENT
BEGIN:VEVENT
DTSTART;TZID=America/New_York:20250130T183000
DTEND;TZID=America/New_York:20250130T203000
DTSTAMP:20260419T120934
CREATED:20241220T203635Z
LAST-MODIFIED:20250131T174317Z
UID:10000151-1738261800-1738269000@cb14brooklyn.com
SUMMARY:Youth Services\, Education and Libraries Committee Meeting
DESCRIPTION:Date and Location\n\n\n\n\n\n\nOnline via Webex \n\n\n\n\n\n\n\n\nAgenda\n\n\n\n\nPresentation on Housing Works Programs for Youth—Johnny Jesus Guaylupo\, Assistant Program Director\, Youth & Prevention Services\, Housing Works Inc.\n\n\n\nIntroduction to Pure Legacee Programs—Kaiia Phillips\, Program Associate\, Pure Legacee\n\n\n\nPlanning for the 2025 Youth Conference\n\n\n\nOther Business
URL:https://cb14brooklyn.com/meeting/youth-services-education-and-libraries-committee-meeting-january-2025/
LOCATION:Online via Webex
CATEGORIES:Committee Meetings,Youth Services, Education and Libraries
END:VEVENT
END:VCALENDAR