BEGIN:VCALENDAR
VERSION:2.0
PRODID:-//Brooklyn Community Board 14 - ECPv6.15.20//NONSGML v1.0//EN
CALSCALE:GREGORIAN
METHOD:PUBLISH
X-ORIGINAL-URL:https://cb14brooklyn.com
X-WR-CALDESC:Events for Brooklyn Community Board 14
REFRESH-INTERVAL;VALUE=DURATION:PT1H
X-Robots-Tag:noindex
X-PUBLISHED-TTL:PT1H
BEGIN:VTIMEZONE
TZID:America/New_York
BEGIN:DAYLIGHT
TZOFFSETFROM:-0500
TZOFFSETTO:-0400
TZNAME:EDT
DTSTART:20230312T070000
END:DAYLIGHT
BEGIN:STANDARD
TZOFFSETFROM:-0400
TZOFFSETTO:-0500
TZNAME:EST
DTSTART:20231105T060000
END:STANDARD
BEGIN:DAYLIGHT
TZOFFSETFROM:-0500
TZOFFSETTO:-0400
TZNAME:EDT
DTSTART:20240310T070000
END:DAYLIGHT
BEGIN:STANDARD
TZOFFSETFROM:-0400
TZOFFSETTO:-0500
TZNAME:EST
DTSTART:20241103T060000
END:STANDARD
BEGIN:DAYLIGHT
TZOFFSETFROM:-0500
TZOFFSETTO:-0400
TZNAME:EDT
DTSTART:20250309T070000
END:DAYLIGHT
BEGIN:STANDARD
TZOFFSETFROM:-0400
TZOFFSETTO:-0500
TZNAME:EST
DTSTART:20251102T060000
END:STANDARD
END:VTIMEZONE
BEGIN:VEVENT
DTSTART;TZID=America/New_York:20241106T183000
DTEND;TZID=America/New_York:20241106T203000
DTSTAMP:20260420T083935
CREATED:20241022T133759Z
LAST-MODIFIED:20241115T195014Z
UID:10000141-1730917800-1730925000@cb14brooklyn.com
SUMMARY:Transportation Committee Meeting
DESCRIPTION:Date and Location\n\n\n\n\n\n\nOnline via Webex \n\n\n\n\n\n\n\n\nAgenda\n\n\n\n\nPresentation on the Bike Lane Network in CD14 – Lauren Martin\, Project Manager\, and Shawn Macias\, Senior Deputy Director\, Project Development & Design\, Bicycle Unit\, NYC Department of Transportation\n\n\n\nStatus of Capital Projects in CD14 and Overview of 5-Year Capital Plan – Katerina Patouri\, Assistant Director\, Government & Community Relations\, NYCT Metropolitan Transportation Authority\n\n\n\nOther Business  \n\n\n\n\n\n24-11-06-bk-cd14-bike-network-expansion-nov2024Download\n\n\n\n24-11-06-2025-2029 Capital Plan Local Outreach_CB14_Nov2024Download
URL:https://cb14brooklyn.com/meeting/transportation-committee-meeting-november-2024/
LOCATION:Online via Webex
CATEGORIES:Committee Meetings,Transportation
ORGANIZER;CN="Brooklyn CB14":MAILTO:meetings@cb14brooklyn.com
END:VEVENT
END:VCALENDAR