BEGIN:VCALENDAR
VERSION:2.0
PRODID:-//Brooklyn Community Board 14 - ECPv6.15.20//NONSGML v1.0//EN
CALSCALE:GREGORIAN
METHOD:PUBLISH
X-ORIGINAL-URL:https://cb14brooklyn.com
X-WR-CALDESC:Events for Brooklyn Community Board 14
REFRESH-INTERVAL;VALUE=DURATION:PT1H
X-Robots-Tag:noindex
X-PUBLISHED-TTL:PT1H
BEGIN:VTIMEZONE
TZID:America/New_York
BEGIN:DAYLIGHT
TZOFFSETFROM:-0500
TZOFFSETTO:-0400
TZNAME:EDT
DTSTART:20210314T070000
END:DAYLIGHT
BEGIN:STANDARD
TZOFFSETFROM:-0400
TZOFFSETTO:-0500
TZNAME:EST
DTSTART:20211107T060000
END:STANDARD
BEGIN:DAYLIGHT
TZOFFSETFROM:-0500
TZOFFSETTO:-0400
TZNAME:EDT
DTSTART:20220313T070000
END:DAYLIGHT
BEGIN:STANDARD
TZOFFSETFROM:-0400
TZOFFSETTO:-0500
TZNAME:EST
DTSTART:20221106T060000
END:STANDARD
BEGIN:DAYLIGHT
TZOFFSETFROM:-0500
TZOFFSETTO:-0400
TZNAME:EDT
DTSTART:20230312T070000
END:DAYLIGHT
BEGIN:STANDARD
TZOFFSETFROM:-0400
TZOFFSETTO:-0500
TZNAME:EST
DTSTART:20231105T060000
END:STANDARD
END:VTIMEZONE
BEGIN:VEVENT
DTSTART;TZID=America/New_York:20221102T183000
DTEND;TZID=America/New_York:20221102T203000
DTSTAMP:20260422T210244
CREATED:20230324T215227Z
LAST-MODIFIED:20250530T160337Z
UID:10000050-1667413800-1667421000@cb14brooklyn.com
SUMMARY:Transportation Committee Meeting
DESCRIPTION:Date and Location\n\n\n\n\n\n\nOnline via Webex \n\n\n\n\n\n\nAgenda\n\n\n\n\nPresentation on proposed BQE repairs and traffic detours –Tanvi Pandya\, Executive Director of BQE & Design Build\, NYC Department of Transportation\n\n\n\nOther business
URL:https://cb14brooklyn.com/meeting/transportation-committee-meeting-november-2022/
LOCATION:Online via Webex
CATEGORIES:CB14 Meetings,Committee Meetings,Transportation
ORGANIZER;CN="Brooklyn CB14":MAILTO:meetings@cb14brooklyn.com
END:VEVENT
BEGIN:VEVENT
DTSTART;TZID=America/New_York:20221107T183000
DTEND;TZID=America/New_York:20221107T203000
DTSTAMP:20260422T210244
CREATED:20230324T215643Z
LAST-MODIFIED:20250530T160525Z
UID:10000051-1667845800-1667853000@cb14brooklyn.com
SUMMARY:Human Services Committee Meeting
DESCRIPTION:Date and Location\n\n\n\n\n\n\nOnline via Webex \n\n\n\n\n\n\nAgenda\n\n\n\n\nMaternal and perinatal health services presentation – Berenice Kernizan\, By My Side Doula Services Coordinator\, Healthy Start Brooklyn\, NYC Department of Health and Mental Hygiene\, Center for Health Equity and Community Wellness\n\n\n\nHealth Equity and Access to Care (HEAC) Study – Professor Diana Romero\, Principal Investigator\, CUNY School of Public Health and Health Policy\n\n\n\nFlatbush Behavioral Health Center presentation on services – Rebecca Herman\, Assistant Director of Field Operations & Clinical Director\, Flatbush Recovery and Wellness Center\n\n\n\nOther business
URL:https://cb14brooklyn.com/meeting/human-services-committee-meeting-november-2022/
LOCATION:Online via Webex
CATEGORIES:CB14 Meetings,Committee Meetings,Human Services
ORGANIZER;CN="Brooklyn CB14":MAILTO:meetings@cb14brooklyn.com
END:VEVENT
BEGIN:VEVENT
DTSTART;TZID=America/New_York:20221114T183000
DTEND;TZID=America/New_York:20221114T210000
DTSTAMP:20260422T210244
CREATED:20230302T165135Z
LAST-MODIFIED:20250530T160659Z
UID:10000011-1668450600-1668459600@cb14brooklyn.com
SUMMARY:November 2022 Board Meeting and Public Hearing
DESCRIPTION:Date and Location\n\n\n\n\n\n\nEast Midwood Jewish Center – 1625 Ocean Avenue  (directions) \n\n\n\n\n\n\nSchedule\n\n\n\n\n6:30PM – Public Hearing with respect to the City’s Capital and Expense Budgets for Fiscal Year 2024\n\n\n\n7:00 PM – Regular Monthly Meeting of Brooklyn Community Board 14\n\n\n\n\n\n\nAgenda & Minutes\n\n\n\n\n			\n			Agenda\n			\n		\n			\n\n\nCALL TO ORDER\n\n\n\nMINUTES\n\n\n\nDISTRICT MANAGER’S REPORT\n\n\n\nCHAIR’S REPORT\n\nRecommendation – City’s Capital and Expense Budgets for Fiscal Year 2024\n\n\n\nBorough Board Report\n\n\n\n\n\nTOPICAL COMMITTEES – REPORTS AND ITEMS:\n\nTransportation Committee\n\n\n\nYouth Services\, Education and Libraries Committee\n\n\n\nCommunity Environment\, Cultural Affairs and Economic Development Committee\n\n\n\nCommunity Safety Committee\n\n\n\nHousing and Land Use Committee\n\n\n\nHuman ServicesCommittee\n\n\n\n\n\nAD HOC COMMITTEES\n\nCB14 Flatbush African Burial Ground Task Force\n\n\n\n\n\nPUBLIC SESSION\n\n\n\nADJOURNMENT\n\n\n\n		\n\n\n			\n			Hearing Documents\n			\n		\n			\n\nFY2024-CB14-Budget-Priorities-Worksheet-Oct-2022\n\n\n		\n\n\n			\n			Minutes\n			\n		\n			\n\n2022-11-Board-Meeting-Minutes-1Download
URL:https://cb14brooklyn.com/meeting/november-2022-board-meeting/
LOCATION:East Midwood Jewish Center\, 1625 Ocean Avenue\, Brooklyn\, New York\, 11230\, United States
CATEGORIES:Board Meetings
ORGANIZER;CN="Brooklyn CB14":MAILTO:meetings@cb14brooklyn.com
END:VEVENT
BEGIN:VEVENT
DTSTART;TZID=America/New_York:20221122T183000
DTEND;TZID=America/New_York:20221122T203000
DTSTAMP:20260422T210244
CREATED:20230324T220322Z
LAST-MODIFIED:20230328T151943Z
UID:10000052-1669141800-1669149000@cb14brooklyn.com
SUMMARY:Community Safety Committee Meeting
DESCRIPTION:Date and Location\n\n\n\n\n\n\nOnline via Webex \n\n\n\n\n\n\nAgenda\n\n\n\n\nFDNY fire prevention and safety presentation – FDNY representative\, Fire Safety Education Unit\n\n\n\nNYPD state of the precinct report – DI Bruce Ceparano\, Commanding Officer\, NYPD 70th Precinct\n\n\n\nOther business
URL:https://cb14brooklyn.com/meeting/community-safety-committee-meeting-november-2022/
LOCATION:Online via Webex
CATEGORIES:CB14 Meetings,Committee Meetings,Community Safety
ORGANIZER;CN="Brooklyn CB14":MAILTO:meetings@cb14brooklyn.com
END:VEVENT
BEGIN:VEVENT
DTSTART;TZID=America/New_York:20221129T183000
DTEND;TZID=America/New_York:20221129T203000
DTSTAMP:20260422T210244
CREATED:20230324T220620Z
LAST-MODIFIED:20230328T152007Z
UID:10000053-1669746600-1669753800@cb14brooklyn.com
SUMMARY:Executive Committee and Other Interested Board Members Meeting
DESCRIPTION:Date and Location\n\n\n\n\n\n\nOnline via Webex \n\n\n\n\n\n\nAgenda\n\n\n\n\nStreet co-naming criteria\n\n\n\nCB14 committee meeting practices\n\n\n\nOther business
URL:https://cb14brooklyn.com/meeting/executive-committee-meeting-november-2022/
LOCATION:Online via Webex
CATEGORIES:CB14 Meetings,Committee Meetings,Executive
ORGANIZER;CN="Brooklyn CB14":MAILTO:meetings@cb14brooklyn.com
END:VEVENT
END:VCALENDAR