BEGIN:VCALENDAR
VERSION:2.0
PRODID:-//Brooklyn Community Board 14 - ECPv6.15.20//NONSGML v1.0//EN
CALSCALE:GREGORIAN
METHOD:PUBLISH
X-ORIGINAL-URL:https://cb14brooklyn.com
X-WR-CALDESC:Events for Brooklyn Community Board 14
REFRESH-INTERVAL;VALUE=DURATION:PT1H
X-Robots-Tag:noindex
X-PUBLISHED-TTL:PT1H
BEGIN:VTIMEZONE
TZID:America/New_York
BEGIN:DAYLIGHT
TZOFFSETFROM:-0500
TZOFFSETTO:-0400
TZNAME:EDT
DTSTART:20220313T070000
END:DAYLIGHT
BEGIN:STANDARD
TZOFFSETFROM:-0400
TZOFFSETTO:-0500
TZNAME:EST
DTSTART:20221106T060000
END:STANDARD
BEGIN:DAYLIGHT
TZOFFSETFROM:-0500
TZOFFSETTO:-0400
TZNAME:EDT
DTSTART:20230312T070000
END:DAYLIGHT
BEGIN:STANDARD
TZOFFSETFROM:-0400
TZOFFSETTO:-0500
TZNAME:EST
DTSTART:20231105T060000
END:STANDARD
BEGIN:DAYLIGHT
TZOFFSETFROM:-0500
TZOFFSETTO:-0400
TZNAME:EDT
DTSTART:20240310T070000
END:DAYLIGHT
BEGIN:STANDARD
TZOFFSETFROM:-0400
TZOFFSETTO:-0500
TZNAME:EST
DTSTART:20241103T060000
END:STANDARD
END:VTIMEZONE
BEGIN:VEVENT
DTSTART;TZID=America/New_York:20230302T183000
DTEND;TZID=America/New_York:20230302T203000
DTSTAMP:20260422T140501
CREATED:20230302T210950Z
LAST-MODIFIED:20230328T153530Z
UID:10000027-1677781800-1677789000@cb14brooklyn.com
SUMMARY:Community Safety Committee Meeting
DESCRIPTION:Date and Location\n\n\n\n\n\n\nOnline via Webex \n\n\n\n\n\n\nAgenda\n\n\n\n\nState of the Precinct\, Deputy Inspector Bruce Ceparano\, Commanding Officer\, 70th Police Precinct\, NYPD\n\n\n\nPresentation on the community work of Civilian Complaint Review Board\, Venus Scantlebury\, Outreach Coordinator\, Civilian Complaint Review Board (CCRB)\n\n\n\nGet Ready New York Emergency Preparedness and OEM programs\, Jill Cornell\, Community Engagement Specialist\, NYC Emergency Management\n\n\n\nOther business
URL:https://cb14brooklyn.com/meeting/community-safety-committee-meeting-march-2023/
LOCATION:Online via Webex
CATEGORIES:Committee Meetings,Community Safety
ORGANIZER;CN="Brooklyn CB14":MAILTO:meetings@cb14brooklyn.com
END:VEVENT
BEGIN:VEVENT
DTSTART;TZID=America/New_York:20230308T183000
DTEND;TZID=America/New_York:20230308T203000
DTSTAMP:20260422T140501
CREATED:20230302T212111Z
LAST-MODIFIED:20230328T153939Z
UID:10000028-1678300200-1678307400@cb14brooklyn.com
SUMMARY:Transportation Committee Meeting
DESCRIPTION:Date and Location\n\n\n\n\n\n\nOnline via Webex \n\n\n\n\n\n\nAgenda\n\n\n\n\nReport on the planning process and draft plans for Citi Bike Phase 3 station locations within CD14\, Lisa Marasco\, NYC Department of Transportation\n\n\n\nDiscussion on CD14’s bike lane network\n\n\n\nOther business
URL:https://cb14brooklyn.com/meeting/transportation-committee-meeting-march-2023/
LOCATION:Online via Webex
CATEGORIES:Committee Meetings,Transportation
ORGANIZER;CN="Brooklyn CB14":MAILTO:meetings@cb14brooklyn.com
END:VEVENT
BEGIN:VEVENT
DTSTART;TZID=America/New_York:20230313T183000
DTEND;TZID=America/New_York:20230313T210000
DTSTAMP:20260422T140501
CREATED:20230302T201007Z
LAST-MODIFIED:20230418T134345Z
UID:10000015-1678732200-1678741200@cb14brooklyn.com
SUMMARY:March 2023 Board Meeting and Public Hearing
DESCRIPTION:Date and Location\n\n\n\n\n\n\nOnline via Webex \n\n\n\n\n\n\nSchedule\n\n\n\n\n6:30PM – Public Hearing with respect to the City’s Preliminary Budget Statement and Register of CB14 Budget Requests for Fiscal Year 2024\n\n\n\n7:00 PM – Regular Monthly Meeting of Brooklyn Community Board 14\n\n\n\n\n\n\nAgenda\, Documents & Minutes\n\n\n\n\n			\n			Agenda\n			\n		\n			\n\n\nCALL TO ORDER\n\n\n\nMINUTES\n\n\n\nDISTRICT MANAGER’S REPORT\n\n\n\nCHAIR’S REPORT\n\nRecommendation – City’s Preliminary Budget Statement and Register of CB14 Budget Requests for Fiscal Year 2024\n\n\n\nElection of Officers:– Jo Ann Brown\, Chair – Duane Joseph\, First Vice Chair – Steven D. Cohen\, Second Vice Chair – Joseph Dweck\, Third Vice Chair – Hindy Bendel\, Secretary – Shahid Khan\, Member-at-Large – Karl-Henry Cesar\, Member-at-Large\n\n\n\nBorough Board Report\n\n\n\n\n\nTOPICAL COMMITTEES – REPORTS AND ITEMS:\n\nCommunity Environment\, Cultural Affairs and Economic Development Committee\n\n\n\nYouth Services\, Education and Libraries Committee\n\n\n\nCommunity Safety Committee\n\n\n\nTransportation Committee\n\n\n\nHousing and Land Use Committee\n\n\n\nHuman Services Committee\n\n\n\n\n\nAD HOC COMMITTEES\n\nCB14 Flatbush African Burial Ground Task Force\n\n\n\n\n\nPUBLIC SESSION\n\n\n\nADJOURNMENT\n\n\n\n		\n\n\n			\n			Hearing Documents\n			\n		\n			\n\nDocuments from the Mayor’s Office of Management and Budget are available for review below: \n\n\n\nFY2024-Prelim-BKCB14-Register-of-PrioriteswebsiteDownload\n\n\n		\n\n\n			\n			Minutes\n			\n		\n			\n\n2023-03-Board-Meeting-Minutes-ratifiedDownload
URL:https://cb14brooklyn.com/meeting/march-2023-board-meeting/
LOCATION:Online via Webex
CATEGORIES:Board Meetings,Public Hearings
ORGANIZER;CN="Brooklyn CB14":MAILTO:meetings@cb14brooklyn.com
END:VEVENT
BEGIN:VEVENT
DTSTART;TZID=America/New_York:20230320T183000
DTEND;TZID=America/New_York:20230320T203000
DTSTAMP:20260422T140501
CREATED:20230302T213103Z
LAST-MODIFIED:20230328T154254Z
UID:10000029-1679337000-1679344200@cb14brooklyn.com
SUMMARY:Youth Services\, Education and Libraries Committee Meeting
DESCRIPTION:Date and Location\n\n\n\n\n\n\nOnline via Webex \n\n\n\n\n\n\nAgenda\n\n\n\n\nFinal plans for 2023 Youth Conference\n\n\n\nSYEP Work Site Presentation\, Representative from COJO\n\n\n\nOther business
URL:https://cb14brooklyn.com/meeting/youth-services-education-and-libraries-committee-meeting-march-2023/
LOCATION:Online via Webex
CATEGORIES:Committee Meetings,Youth Services, Education and Libraries
ORGANIZER;CN="Brooklyn CB14":MAILTO:meetings@cb14brooklyn.com
END:VEVENT
BEGIN:VEVENT
DTSTART;TZID=America/New_York:20230328T183000
DTEND;TZID=America/New_York:20230328T203000
DTSTAMP:20260422T140501
CREATED:20230302T213348Z
LAST-MODIFIED:20230328T154447Z
UID:10000030-1680028200-1680035400@cb14brooklyn.com
SUMMARY:Community Environment\, Cultural Affairs and Economic Development Committee Meeting
DESCRIPTION:Date and Location\n\n\n\n\n\n\nOnline via Webex \n\n\n\n\n\n\nAgenda\n\n\n\n\nPresentation on Sanitation Collection Set Out Time Rules\, Representative from DSNY Community and Government Affairs\n\n\n\nRecommendations for NYC’s Public Bathroom System\, Julie Chou\, Public Bathroom Task Force\n\n\n\nOther business
URL:https://cb14brooklyn.com/meeting/community-environment-cultural-affairs-and-economic-development-committee-meeting-march-2023/
LOCATION:Online via Webex
CATEGORIES:Committee Meetings,Community Environment, Cultural Affairs and Economic Development
ORGANIZER;CN="Brooklyn CB14":MAILTO:meetings@cb14brooklyn.com
END:VEVENT
END:VCALENDAR