BEGIN:VCALENDAR
VERSION:2.0
PRODID:-//Brooklyn Community Board 14 - ECPv6.15.20//NONSGML v1.0//EN
CALSCALE:GREGORIAN
METHOD:PUBLISH
X-ORIGINAL-URL:https://cb14brooklyn.com
X-WR-CALDESC:Events for Brooklyn Community Board 14
REFRESH-INTERVAL;VALUE=DURATION:PT1H
X-Robots-Tag:noindex
X-PUBLISHED-TTL:PT1H
BEGIN:VTIMEZONE
TZID:America/New_York
BEGIN:DAYLIGHT
TZOFFSETFROM:-0500
TZOFFSETTO:-0400
TZNAME:EDT
DTSTART:20220313T070000
END:DAYLIGHT
BEGIN:STANDARD
TZOFFSETFROM:-0400
TZOFFSETTO:-0500
TZNAME:EST
DTSTART:20221106T060000
END:STANDARD
BEGIN:DAYLIGHT
TZOFFSETFROM:-0500
TZOFFSETTO:-0400
TZNAME:EDT
DTSTART:20230312T070000
END:DAYLIGHT
BEGIN:STANDARD
TZOFFSETFROM:-0400
TZOFFSETTO:-0500
TZNAME:EST
DTSTART:20231105T060000
END:STANDARD
BEGIN:DAYLIGHT
TZOFFSETFROM:-0500
TZOFFSETTO:-0400
TZNAME:EDT
DTSTART:20240310T070000
END:DAYLIGHT
BEGIN:STANDARD
TZOFFSETFROM:-0400
TZOFFSETTO:-0500
TZNAME:EST
DTSTART:20241103T060000
END:STANDARD
END:VTIMEZONE
BEGIN:VEVENT
DTSTART;TZID=America/New_York:20230403T160000
DTEND;TZID=America/New_York:20230403T190000
DTSTAMP:20260422T122954
CREATED:20230302T214532Z
LAST-MODIFIED:20230711T195159Z
UID:10000031-1680537600-1680548400@cb14brooklyn.com
SUMMARY:16th Annual Youth Conference
DESCRIPTION:Date and Location\n\n\n\n\n\n\nBrooklyn College Student Center – 2705 Campus Road\, Brooklyn 11210  (map).     \n\n\n\n\n\n\n\n\n\nCB14’s Youth Service\, Education and Libraries Committee is thrilled to announce our 16th Annual Youth Conference will take place on Monday April 3\, 2023 from 4-7pm at the Brooklyn College Student Center. \n\n\n\nThe Youth Conference is a wonderful opportunity for young people ages 14-21 to connect with organizations\, businesses\, schools and agencies offering summer jobs\, afterschool programs\, career development\, college information and more. Service providers offering health\, immigration\, legal and other support services will also be in attendance. In addition to tabling by various organizations\, agencies\, educational institutions\, and businesses\, young people can participate in half-hour workshops. CB14 is excited to once again be partnering with Brooklyn College for this event. \n\n\n\nParticipation in the conference is totally free.  More information at cb14youthconference.nyc \n\n\n\nYouth participants can register for the event on Eventbrite.  \n\n\n\nBusinesses\, organizations\, and agencies can register by filling out this Google form.  \n\n\n\nPlease contact CB14 Community Coordinator Sarah Sklaw at 718-859-6357 or ch14youthconference@gmail.com if you have any questions or need assistance registering.
URL:https://cb14brooklyn.com/meeting/16th-annual-youth-conference/
LOCATION:Brooklyn College Student Center\, 2705 Campus Road\, Brooklyn\, New York\, 11210\, United States
CATEGORIES:CB14 Events,Youth Conference,Youth Services, Education and Libraries
ORGANIZER;CN="Brooklyn CB14":MAILTO:meetings@cb14brooklyn.com
END:VEVENT
BEGIN:VEVENT
DTSTART;TZID=America/New_York:20230417T190000
DTEND;TZID=America/New_York:20230417T210000
DTSTAMP:20260422T122954
CREATED:20230302T192419Z
LAST-MODIFIED:20230711T155434Z
UID:10000016-1681758000-1681765200@cb14brooklyn.com
SUMMARY:April 2023 Board Meeting
DESCRIPTION:Date and Location\n\n\n\n\n\n\nEast Midwood Jewish Center – 1625 Ocean Avenue  (directions).     \n\n\n\n\n\n\nAgenda and Minutes\n\n\n\n\n			\n			Agenda\n			\n		\n			\n\n\nCALL TO ORDER\n\nPublic Hearing – No new business\n\n\n\nBoard Meeting\n\n\n\n\n\nMINUTES\n\n\n\nDISTRICT MANAGER’S REPORT\n\n\n\nCHAIR’S REPORT\n\nRecommendation – \n\n\n\nBorough Board Report\n\n\n\n\n\nTOPICAL COMMITTEES – REPORTS AND ITEMS:\n\nYouth Services\, Education and Libraries Committee\n\n\n\nCommunity Environment\, Cultural Affairs and Economic Development Committee\n\n\n\nHousing and Land Use Committee\n\n\n\nHuman Services Committee\n\n\n\nCommunity Safety Committee\n\n\n\nTransportation Committee\n\n\n\n\n\nAD HOC COMMITTEES\n\nCB14 Flatbush African Burial Ground Task Force\n\n\n\n\n\nPUBLIC SESSION\n\n\n\nADJOURNMENT\n\n\n\n		\n\n\n			\n			Documents\n			\n		\n			\n\nView/download CB14’s Statement of Community District Needs and Community Board Budget Requests- Fiscal Year 2024 published by the NYC Department of City Planning. \n\n\n\n2024-FY24_DistrictNeedsStatement_BK14Download\n\n\n		\n\n\n			\n			Minutes\n			\n		\n			\n\n2023-04-Board Meeting Minutes-RatifiedDownload
URL:https://cb14brooklyn.com/meeting/april-2023-board-meeting/
LOCATION:East Midwood Jewish Center\, 1625 Ocean Avenue\, Brooklyn\, New York\, 11230\, United States
CATEGORIES:Board Meetings
ORGANIZER;CN="Brooklyn CB14":MAILTO:meetings@cb14brooklyn.com
END:VEVENT
BEGIN:VEVENT
DTSTART;TZID=America/New_York:20230418T183000
DTEND;TZID=America/New_York:20230418T203000
DTSTAMP:20260422T122954
CREATED:20230328T155529Z
LAST-MODIFIED:20230613T184339Z
UID:10000055-1681842600-1681849800@cb14brooklyn.com
SUMMARY:Housing and Land Use Committee Meeting
DESCRIPTION:Date and Location\n\n\n\n\n\n\nOnline via Webex \n\n\n\n\n\n\nAgenda\n\n\n\n\nPresentation on the Brooklyn Borough President’s Comprehensive Plan\, John Douglas\, Director of Land Use & Topography\, and Erin Buchanan\, Deputy Director of Land Use\, Brooklyn Borough President’s Office\n\n\n\nReport on affordable housing inventory program\, William Cooch\, 2022-2023 CB14’s FCNY Planning Fellow\n\n\n\nOther business
URL:https://cb14brooklyn.com/meeting/housing-and-land-use-committee-meeting-april-2023/
LOCATION:Online via Webex
CATEGORIES:Committee Meetings,Housing and Land Use
ORGANIZER;CN="Brooklyn CB14":MAILTO:meetings@cb14brooklyn.com
END:VEVENT
BEGIN:VEVENT
DTSTART;TZID=America/New_York:20230427T183000
DTEND;TZID=America/New_York:20230427T203000
DTSTAMP:20260422T122954
CREATED:20230328T160308Z
LAST-MODIFIED:20230711T155517Z
UID:10000058-1682620200-1682627400@cb14brooklyn.com
SUMMARY:CB14 Flatbush African Burial Ground Task Force Meeting
DESCRIPTION:Date and Location\n\n\n\n\n\n\nOnline via Webex \n\n\n\n\n\n\nAgenda\n\n\n\n\nReport on the status of the Flatbush African Burial Ground\n\n\n\nDiscussion of community-led activities\n\n\n\nOther business
URL:https://cb14brooklyn.com/meeting/cb14-flatbush-african-burial-ground-task-force-meeting-april-2023/
LOCATION:Online via Webex
CATEGORIES:CB14 Flatbush African Burial Ground Task Force,Committee Meetings
ORGANIZER;CN="Brooklyn CB14":MAILTO:meetings@cb14brooklyn.com
END:VEVENT
END:VCALENDAR