BEGIN:VCALENDAR
VERSION:2.0
PRODID:-//Brooklyn Community Board 14 - ECPv6.15.20//NONSGML v1.0//EN
CALSCALE:GREGORIAN
METHOD:PUBLISH
X-ORIGINAL-URL:https://cb14brooklyn.com
X-WR-CALDESC:Events for Brooklyn Community Board 14
REFRESH-INTERVAL;VALUE=DURATION:PT1H
X-Robots-Tag:noindex
X-PUBLISHED-TTL:PT1H
BEGIN:VTIMEZONE
TZID:America/New_York
BEGIN:DAYLIGHT
TZOFFSETFROM:-0500
TZOFFSETTO:-0400
TZNAME:EDT
DTSTART:20220313T070000
END:DAYLIGHT
BEGIN:STANDARD
TZOFFSETFROM:-0400
TZOFFSETTO:-0500
TZNAME:EST
DTSTART:20221106T060000
END:STANDARD
BEGIN:DAYLIGHT
TZOFFSETFROM:-0500
TZOFFSETTO:-0400
TZNAME:EDT
DTSTART:20230312T070000
END:DAYLIGHT
BEGIN:STANDARD
TZOFFSETFROM:-0400
TZOFFSETTO:-0500
TZNAME:EST
DTSTART:20231105T060000
END:STANDARD
BEGIN:DAYLIGHT
TZOFFSETFROM:-0500
TZOFFSETTO:-0400
TZNAME:EDT
DTSTART:20240310T070000
END:DAYLIGHT
BEGIN:STANDARD
TZOFFSETFROM:-0400
TZOFFSETTO:-0500
TZNAME:EST
DTSTART:20241103T060000
END:STANDARD
END:VTIMEZONE
BEGIN:VEVENT
DTSTART;TZID=America/New_York:20230606T183000
DTEND;TZID=America/New_York:20230606T203000
DTSTAMP:20260422T091755
CREATED:20230518T194600Z
LAST-MODIFIED:20230711T160210Z
UID:10000065-1686076200-1686083400@cb14brooklyn.com
SUMMARY:Transportation Committee Meeting
DESCRIPTION:Date and Location\n\n\n\n\n\n\nOnline via Webex \n\n\n\n\n\n\nAgenda\n\n\n\n\nUpdates on Citi Bike Station Expansion in CD14 – Jenee Malloy and Lisa Morasco\, NYC Department of Transportation\n\n\n\nBike Lane Network Proposal in CD14 – Lauren Martin\, NYC Department of Transportation\n\n\n\nOther business\n\n\n\n\n\n\n\nClick image to expand proposed map.\n\n\n\n\n\n\nFoster Avenue\, Ocean Parkway to Flatbush Avenue – Standard Bicycle Lane westbound\n\n\n\nFarragut Avenue\, Ocean Avenue to Nostrand Avenue – Standard Bicycle Lane eastbound\n\n\n\nEast 12th St\, Avenue I to Avenue P – Standard Bicycle Lane southbound\n\n\n\nEast 13th St\, Avenue I to Avenue P – Standard Bicycle Lane northbound\n\n\n\nEast 14th St\, Avenue H to Avenue I – Shared Lane northbound and southbound\n\n\n\nEast 17th St\, Avenue I to Avenue P – Standard Bicycle Lane northbound\n\n\n\nEast 18th St\, Avenue I to Avenue P – Standard Bicycle Lane southbound\n\n\n\n\n\n\nCitiBikePhase3-BK14_2023UpdatedPlan_06072023_FinalDownload
URL:https://cb14brooklyn.com/meeting/transportation-committee-meeting-june-2023/
LOCATION:Online via Webex
CATEGORIES:Committee Meetings,Transportation
ORGANIZER;CN="Brooklyn CB14":MAILTO:meetings@cb14brooklyn.com
END:VEVENT
BEGIN:VEVENT
DTSTART;TZID=America/New_York:20230608T183000
DTEND;TZID=America/New_York:20230608T203000
DTSTAMP:20260422T091755
CREATED:20230518T194725Z
LAST-MODIFIED:20230711T161236Z
UID:10000066-1686249000-1686256200@cb14brooklyn.com
SUMMARY:Public Hearing & Community Environment\, Cultural Affairs and Economic Development Committee Meeting
DESCRIPTION:Date and Location\n\n\n\n\n\n\nOnline via Webex \n\n\n\n\n\n\nAgenda\n\n\n\n\nNYC Department of City Planning’s City of Yes for Carbon Neutrality (COYCN) Proposed Zoning Text Amendment – Hanif Yazdi\, David Weissglass\, and Emily Bachman\, Planners\, NYC Department of City Planning\n\n\n\nPresentation on the In-progress Design for the Umma Park Reconstruction – James Morris\, Director of Capital Projects Brooklyn Operations\, Department of Parks & Recreation\n\n\n\n\n\n			\n			COYCN Information\n			\n		\n			\n\nVisit DCP’s website page on COYCN: www.nyc.gov/site/planning/plans/city-of-yes/city-of-yes-carbon-neutrality.pageVisit DCP’s Zoning Application Portal entry on COYCN: zap.planning.nyc.gov/projects/2022Y0438 \n\n\n\n\nReport by Morgan Reuther\, Fund for the City of New York Planning Fellow for CB14 on COYCN:\n\n\n\n230510_FCNY Final Presentation_reduced-2Download\n\n\n\n \n\n\n\n\n\nReport presentation by Morgan Reuther at CB14’s Housing and Land Use Committee in May 2023:\n\n\n\n\n\n\n\n\n\n		\n\n\n\n\n\nMeeting Recording
URL:https://cb14brooklyn.com/meeting/public-hearing-cecaed-june8-2023/
LOCATION:Online via Webex
CATEGORIES:Committee Meetings,Community Environment, Cultural Affairs and Economic Development,Public Hearings
ORGANIZER;CN="Brooklyn CB14":MAILTO:meetings@cb14brooklyn.com
END:VEVENT
BEGIN:VEVENT
DTSTART;TZID=America/New_York:20230612T183000
DTEND;TZID=America/New_York:20230612T210000
DTSTAMP:20260422T091755
CREATED:20230302T192116Z
LAST-MODIFIED:20230918T144038Z
UID:10000018-1686594600-1686603600@cb14brooklyn.com
SUMMARY:June 2023 Board Meeting and Public Hearing
DESCRIPTION:Date and Location\n\n\n\n\n\n\nEast Midwood Jewish Center – 1625 Ocean Avenue\, 2nd Floor  (directions).   \n\n\n\n\n\n\nSchedule\n\n\n\n\n6:30PM – Public Hearing on Retail Cannabis Dispensary Application\n\n\n\n7:00 PM – Regular Monthly Meeting of Brooklyn Community Board 14\n\n\n\n\n\n\nAgenda and Minutes\n\n\n\n\n			\n			Public Hearing Agenda\n			\n		\n			\n\nRetail Cannabis Dispensary Application: 1056 Flatbush Avenue. BK Exotic Outlet LLC has obtained a provisional license from the Cannabis Control Board and is seeking full licensure with the Office of Cannabis Management to open a retail dispensary. Applicant representative: Michael James (516) 858-5887 \n\n\n		\n\n\n			\n			Board Meeting Agenda\n			\n		\n			\n\n\nCALL TO ORDER\n\n\n\nMINUTES\n\n\n\nDISTRICT MANAGER’S REPORT\n\n\n\nCHAIR’S REPORT\n\nRecommendation – Status and Procedures for Licensing Cannabis Sales\n\n\n\nRecommendation – COYCN Proposed Zoning Text Amendment\n\n\n\nRecommendation – Retail Cannabis Dispensary Application: 1056 Flatbush Avenue\, BK Exotic Outlet LLC\n\n\n\nBorough Board Report\n\n\n\nCommittee of the Whole: The board will convene during the months of July and August only if officially notified of an item that requires a vote\, in which case it is recommended that the board vote on a resolution empowering a “Committee of the Whole” to act on behalf of the full board. This enables the board to satisfy its quorum requirement during the summer months\n\n\n\n\n\nTOPICAL COMMITTEES – REPORTS AND ITEMS:\n\nCommunity Safety Committee\n\n\n\nHuman Services Committee\n\n\n\nCommunity Environment\, Cultural Affairs and Economic Development Committee\n\n\n\nTransportation Committee\n\n\n\nYouth Services\, Education and Libraries Committee\n\n\n\nHousing and Land Use Committee\n\n\n\n\n\nAD HOC COMMITTEES\n\nCB14 Flatbush African Burial Ground Task Force\n\n\n\n\n\nPUBLIC SESSION\n\n\n\nADJOURNMENT\n\n\n\n		\n\n\n			\n			Minutes\n			\n		\n			\n\n2023-06-Board Meeting Minutes-RatifiedDownload
URL:https://cb14brooklyn.com/meeting/june-2023-board-meeting/
LOCATION:East Midwood Jewish Center\, 1625 Ocean Avenue\, Brooklyn\, New York\, 11230\, United States
CATEGORIES:Board Meetings,Public Hearings
ORGANIZER;CN="Brooklyn CB14":MAILTO:meetings@cb14brooklyn.com
END:VEVENT
BEGIN:VEVENT
DTSTART;TZID=America/New_York:20230621T180000
DTEND;TZID=America/New_York:20230621T210000
DTSTAMP:20260422T091755
CREATED:20230523T134745Z
LAST-MODIFIED:20230711T161454Z
UID:10000064-1687370400-1687381200@cb14brooklyn.com
SUMMARY:2023 CB14 Annual Reception
DESCRIPTION:Date and Location\n\n\n\n\n\n\nEast Midwood Jewish Center – 1625 Ocean Avenue\, 2nd Floor  (directions).   \n\n\n\n\n\n\n\nThe community is invited to join Brooklyn Community Board 14 for our Annual Reception to welcome our new Community Board members and recognize the excellence of our public servants and community leaders.
URL:https://cb14brooklyn.com/meeting/cb14-annual-reception-2023/
LOCATION:East Midwood Jewish Center\, 1625 Ocean Avenue\, Brooklyn\, New York\, 11230\, United States
CATEGORIES:CB14 Events
END:VEVENT
END:VCALENDAR