BEGIN:VCALENDAR
VERSION:2.0
PRODID:-//Brooklyn Community Board 14 - ECPv6.15.20//NONSGML v1.0//EN
CALSCALE:GREGORIAN
METHOD:PUBLISH
X-WR-CALNAME:Brooklyn Community Board 14
X-ORIGINAL-URL:https://cb14brooklyn.com
X-WR-CALDESC:Events for Brooklyn Community Board 14
REFRESH-INTERVAL;VALUE=DURATION:PT1H
X-Robots-Tag:noindex
X-PUBLISHED-TTL:PT1H
BEGIN:VTIMEZONE
TZID:America/New_York
BEGIN:DAYLIGHT
TZOFFSETFROM:-0500
TZOFFSETTO:-0400
TZNAME:EDT
DTSTART:20220313T070000
END:DAYLIGHT
BEGIN:STANDARD
TZOFFSETFROM:-0400
TZOFFSETTO:-0500
TZNAME:EST
DTSTART:20221106T060000
END:STANDARD
BEGIN:DAYLIGHT
TZOFFSETFROM:-0500
TZOFFSETTO:-0400
TZNAME:EDT
DTSTART:20230312T070000
END:DAYLIGHT
BEGIN:STANDARD
TZOFFSETFROM:-0400
TZOFFSETTO:-0500
TZNAME:EST
DTSTART:20231105T060000
END:STANDARD
BEGIN:DAYLIGHT
TZOFFSETFROM:-0500
TZOFFSETTO:-0400
TZNAME:EDT
DTSTART:20240310T070000
END:DAYLIGHT
BEGIN:STANDARD
TZOFFSETFROM:-0400
TZOFFSETTO:-0500
TZNAME:EST
DTSTART:20241103T060000
END:STANDARD
END:VTIMEZONE
BEGIN:VEVENT
DTSTART;TZID=America/New_York:20230821T183000
DTEND;TZID=America/New_York:20230821T203000
DTSTAMP:20260422T055935
CREATED:20230714T174434Z
LAST-MODIFIED:20231218T145933Z
UID:10000077-1692642600-1692649800@cb14brooklyn.com
SUMMARY:Committee of the Whole Meeting
DESCRIPTION:Date and Location\n\n\n\n\n\n\nOnline via Webex \n\n\n\n\n\n\nAgenda\n\n\n\n\nConsideration of CB14 position on City of Yes for Carbon Neutrality (COYCN) Proposed Zoning Text Amendment\n\n\n\n\n\n			\n			Information and Documents on City of Yes for Carbon Neutrality (COYCN)\n			\n		\n			\n\n\nVisit DCP’s website page on COYCN for complete information: www.nyc.gov/site/planning/plans/city-of-yes/city-of-yes-carbon-neutrality.pageVisit DCP’s Zoning Application Portal entry on COYCN for recommendations by other Community Boards: zap.planning.nyc.gov/projects/2022Y0438\n\n\n\n\n \n\n\n\n\nCB14’s Preliminary Comments on COYCN:\n\n\n\nCB14 Prelim rec COYCN to DCP ZAPDownload\n\n\n\nReport by Morgan Reuther\, Fund for the City of New York Planning Fellow for CB14 on COYCN:\n\n\n\n230510_FCNY Final Presentation_reduced-2Download\n\n\n\n \n\n\n\n\n\n\nVideo recording of the report presentation by Morgan Reuther to CB14’s Housing and Land Use Committee on May 10\, 2023:\n\n\n\n\n\n\n\n\n\n\n\n\n \n\n\n\n\nVideo recording of the CB14 public hearing on COYCN on June 8\, 2023:
URL:https://cb14brooklyn.com/meeting/committee-of-the-whole-meeting-202308/
LOCATION:Online via Webex
CATEGORIES:Board Meetings
END:VEVENT
END:VCALENDAR