BEGIN:VCALENDAR
VERSION:2.0
PRODID:-//Brooklyn Community Board 14 - ECPv6.15.20//NONSGML v1.0//EN
CALSCALE:GREGORIAN
METHOD:PUBLISH
X-WR-CALNAME:Brooklyn Community Board 14
X-ORIGINAL-URL:https://cb14brooklyn.com
X-WR-CALDESC:Events for Brooklyn Community Board 14
REFRESH-INTERVAL;VALUE=DURATION:PT1H
X-Robots-Tag:noindex
X-PUBLISHED-TTL:PT1H
BEGIN:VTIMEZONE
TZID:America/New_York
BEGIN:DAYLIGHT
TZOFFSETFROM:-0500
TZOFFSETTO:-0400
TZNAME:EDT
DTSTART:20220313T070000
END:DAYLIGHT
BEGIN:STANDARD
TZOFFSETFROM:-0400
TZOFFSETTO:-0500
TZNAME:EST
DTSTART:20221106T060000
END:STANDARD
BEGIN:DAYLIGHT
TZOFFSETFROM:-0500
TZOFFSETTO:-0400
TZNAME:EDT
DTSTART:20230312T070000
END:DAYLIGHT
BEGIN:STANDARD
TZOFFSETFROM:-0400
TZOFFSETTO:-0500
TZNAME:EST
DTSTART:20231105T060000
END:STANDARD
BEGIN:DAYLIGHT
TZOFFSETFROM:-0500
TZOFFSETTO:-0400
TZNAME:EDT
DTSTART:20240310T070000
END:DAYLIGHT
BEGIN:STANDARD
TZOFFSETFROM:-0400
TZOFFSETTO:-0500
TZNAME:EST
DTSTART:20241103T060000
END:STANDARD
END:VTIMEZONE
BEGIN:VEVENT
DTSTART;TZID=America/New_York:20230907T183000
DTEND;TZID=America/New_York:20230907T203000
DTSTAMP:20260422T045552
CREATED:20230717T202226Z
LAST-MODIFIED:20230918T144400Z
UID:10000078-1694111400-1694118600@cb14brooklyn.com
SUMMARY:3 Public Hearings - BSA Applications (2) and COYCN
DESCRIPTION:Date and Location\n\n\n\n\n\n\nCB14 District Office – 810 East 16th Street  (directions).   \n\n\n\n\n\n\nSchedule\n\n\n\n\n6:30 PM – Public Hearing on Special Permit Application: BSA Nbr. 2023-21-BZ – 1337 East 24th Street\n\n\n\n6:45 PM – Public Hearing on Special Permit Application: BSA Nbr. 2023-27-BZ  – 3199 Bedford Avenue\n\n\n\n7:00 PM – Public Hearing on City of Yes for Carbon Neutrality (COYCN) Proposed Zoning Text Amendment.\n\n\n\n\n\n\nAgendas\n\n\n\n(1) SPECIAL PERMIT: This application is filed pursuant to Sections 73-622 of the Zoning Resolution of the City of New York to request a special permit to allow the enlargement of an existing single-family home in an R2 zoning district\, contrary to the underlying Floor Area/FAR (ZR 23-141)\, Open Space/OSR (ZR 23-141)\, Side Yard (ZR 23-461[a]) and Rear yard (ZR 23-47) requirements.1337 East 24th Street\, between Avenue M and Avenue N\, Block 7660\, Lot 29\, BSA Calendar No. 2023-21-BZ – Applicant’s Representative: Jay Goldstein\, Esq.\, 646-535-3771. \n\n\n\n(2) SPECIAL PERMIT: This application is filed pursuant to Sections 73-622 of the Zoning Resolution of the City of New York to request a special permit to allow the enlargement of an existing single-family home in an R2 zoning district\, contrary to the underlying Floor Area/FAR (ZR 23-141)\, Open Space/OSR (ZR 23-141)\, Side Yard (ZR 23-461[a]) and Rear yard (ZR 23-47) requirements.3199 Bedford Avenue\, between Avenue J and Avenue K\, Block 7607\, Lot 15\, BSA Calendar No. 2023-27-BZ – Applicant’s Representative: Jay Goldstein\, Esq.\, 646-535-3771. \n\n\n\n(3) Consideration of the draft CB14’s recommendation to the Department of City Planning’s City of Yes for Carbon Neutrality (COYCN) Proposed Zoning Text Amendment. Click here to see where to find more information on COYCN\, watch CB14’s meeting discussions on YouTube\, read the preliminary comments CB14 sent to DCP\, and read/watch the presentation of the “Zoning for Carbon Neutrality for Brooklyn CB14” report and presentation by FCNY Planning Fellow Morgan Reuther.
URL:https://cb14brooklyn.com/meeting/public-hearings-on-bsa-applications-and-coycn-2023/
LOCATION:Brooklyn CB14 District Office\, 810 East 16th Street\, Brooklyn\, NY\, 11230\, United States
CATEGORIES:Public Hearings
END:VEVENT
BEGIN:VEVENT
DTSTART;TZID=America/New_York:20230911T183000
DTEND;TZID=America/New_York:20230911T210000
DTSTAMP:20260422T045552
CREATED:20230823T202603Z
LAST-MODIFIED:20231017T162907Z
UID:10000081-1694457000-1694466000@cb14brooklyn.com
SUMMARY:September 2023 Board Meeting and Public Hearing
DESCRIPTION:Date and Location\n\n\n\n\n\n\nEast Midwood Jewish Center – 1625 Ocean Avenue  (directions).   \n\n\n\n\n\n\nSchedule\n\n\n\n\n6:30PM – Public Hearing with respect to public comment on NYC Capital & Expense Budgets for Fiscal Year 2025\n\n\n\n7:00 PM – Regular Monthly Meeting of Brooklyn Community Board 14\n\n\n\n\n\n\nAgenda and Minutes\n\n\n\n\n			\n			Board Meeting Agenda\n			\n		\n			\n\n\nCALL TO ORDER\n\n\n\nMINUTES\n\n\n\nDISTRICT MANAGER’S REPORT\n\n\n\nCHAIR’S REPORT\n\nRecommendation – Special Permit Application BSA Nbr. 2023-21-BZ – 1337 East 24th Street\n\n\n\n Recommendation – Special Permit Application BSA Nbr. 2023-27-BZ – 3199 Bedford Avenue\n\n\n\nRecommendation – CB14’s Comments to City of Yes for Carbon Neutrality (COYCN) Proposed Zoning Text Amendment\n\n\n\nRecommendation – Public Hearing with respect to public comment on NYC Capital & Expense Budgets for Fiscal Year 2025\n\n\n\nBorough Board Report\n\n\n\n\n\nTOPICAL COMMITTEES – REPORTS AND ITEMS:\n\nTransportation Committee\n\n\n\nHousing and Land Use Committee\n\n\n\nHuman Services Committee\n\n\n\nCommunity Environment\, Cultural Affairs and Economic Development Committee\n\n\n\nYouth Services\, Education and Libraries Committee\n\n\n\nCommunity Safety Committee\n\n\n\n\n\nAD HOC COMMITTEES\n\nCB14 Flatbush African Burial Ground Task Force\n\n\n\n\n\nPUBLIC SESSION\n\n\n\nADJOURNMENT\n\n\n\n		\n\n\n			\n			Minutes\n			\n		\n			\n\n2023-09-Board Meeting Minutes-RatifiedDownload
URL:https://cb14brooklyn.com/meeting/september-2023-board-meeting/
LOCATION:East Midwood Jewish Center\, 1625 Ocean Avenue\, Brooklyn\, New York\, 11230\, United States
CATEGORIES:Board Meetings,Public Hearings
END:VEVENT
BEGIN:VEVENT
DTSTART;TZID=America/New_York:20230927T183000
DTEND;TZID=America/New_York:20230927T203000
DTSTAMP:20260422T045552
CREATED:20230817T160651Z
LAST-MODIFIED:20231106T171016Z
UID:10000079-1695839400-1695846600@cb14brooklyn.com
SUMMARY:Transportation Committee Meeting
DESCRIPTION:Date and Location\n\n\n\n\n\n\nOnline via Webex \n\n\n\n\n\n\nAgenda\n\n\n\n\nPresentation on Church Avenue B Q Station ADA Project – Andrew Inglesby\, Metropolitan Transportation Authority\n\n\n\nPresentation on the Coney Island Avenue and Cortelyou Road Intersection – Casey Gorrell\, Department of Transportation\n\n\n\nOther business\n\n\n\n\n\n\nOur apologies\, the meeting could not be livestreamed. The recording is available below and on our YouTube channel.\n\n\n\n \n\n\n\n\n\n\n\n\n\nChurch Avenue Accessibility Upgrades Presentations\n\n\n\n2023-09-27-1P Church Ave Station Accessibility Upgrades v5Download\n\n\n\n2023-09-27-A-37140 _Church Ave_ BK PPT v9Download\n\n\n\nConey Island Avenue and Cortelyou Road Intersection Presentation\n\n\n\n2023-coney-island-ave-cortelyou-rd-sep2023Download
URL:https://cb14brooklyn.com/meeting/transportation-committee-meeting-september-2023/
LOCATION:Online via Webex
CATEGORIES:Committee Meetings,Transportation
ORGANIZER;CN="Brooklyn CB14":MAILTO:meetings@cb14brooklyn.com
END:VEVENT
END:VCALENDAR