BEGIN:VCALENDAR
VERSION:2.0
PRODID:-//Brooklyn Community Board 14 - ECPv6.15.20//NONSGML v1.0//EN
CALSCALE:GREGORIAN
METHOD:PUBLISH
X-WR-CALNAME:Brooklyn Community Board 14
X-ORIGINAL-URL:https://cb14brooklyn.com
X-WR-CALDESC:Events for Brooklyn Community Board 14
REFRESH-INTERVAL;VALUE=DURATION:PT1H
X-Robots-Tag:noindex
X-PUBLISHED-TTL:PT1H
BEGIN:VTIMEZONE
TZID:America/New_York
BEGIN:DAYLIGHT
TZOFFSETFROM:-0500
TZOFFSETTO:-0400
TZNAME:EDT
DTSTART:20220313T070000
END:DAYLIGHT
BEGIN:STANDARD
TZOFFSETFROM:-0400
TZOFFSETTO:-0500
TZNAME:EST
DTSTART:20221106T060000
END:STANDARD
BEGIN:DAYLIGHT
TZOFFSETFROM:-0500
TZOFFSETTO:-0400
TZNAME:EDT
DTSTART:20230312T070000
END:DAYLIGHT
BEGIN:STANDARD
TZOFFSETFROM:-0400
TZOFFSETTO:-0500
TZNAME:EST
DTSTART:20231105T060000
END:STANDARD
BEGIN:DAYLIGHT
TZOFFSETFROM:-0500
TZOFFSETTO:-0400
TZNAME:EDT
DTSTART:20240310T070000
END:DAYLIGHT
BEGIN:STANDARD
TZOFFSETFROM:-0400
TZOFFSETTO:-0500
TZNAME:EST
DTSTART:20241103T060000
END:STANDARD
END:VTIMEZONE
BEGIN:VEVENT
DTSTART;TZID=America/New_York:20231101T183000
DTEND;TZID=America/New_York:20231101T203000
DTSTAMP:20260420T134211
CREATED:20230925T160127Z
LAST-MODIFIED:20240102T143322Z
UID:10000086-1698863400-1698870600@cb14brooklyn.com
SUMMARY:Housing and Land Use Committee Meeting
DESCRIPTION:Date and Location\n\n\n\n\n\n\nOnline via Webex \n\n\n\n\n\n\n\n\nAgenda\n\n\n\n\nPresentation on City of Yes for Economic Opportunity Zoning Text Amendment – Representative from NYC Department of City Planning\n\n\n\nOther business\n\n\n\n\n\n			\n			City of Yes for Economic Opportunity Information\n			\n		\n			\n\nFor more information visit this website: https://www.nyc.gov/site/planning/plans/city-of-yes/city-of-yes-economic-opportunity.page \n\n\n\nSeptember 12\, 2023 info session presentation slides\n\n\n\n2023-economic-opportunity-info-session-091223Download\n\n\n\nSeptember 12\, 2023 info session recording\n\n\n\n\n\n\n\n\n\nCity of Yes for Economic Opportunity Draft Annotated Zoning Text\n\n\n\n2023-economic-opportunity-draft-annotated-zoning-textDownload\n\n\n		\n\n\n\n\n\n\n\n\n\n\n2023-COYEO – CB14 Presentation – 11.01.23Download
URL:https://cb14brooklyn.com/meeting/housing-and-land-use-committee-meeting-november-2023/
LOCATION:Online via Webex
CATEGORIES:Committee Meetings,Housing and Land Use,Public Hearings
END:VEVENT
BEGIN:VEVENT
DTSTART;TZID=America/New_York:20231108T183000
DTEND;TZID=America/New_York:20231108T203000
DTSTAMP:20260420T134211
CREATED:20231026T192902Z
LAST-MODIFIED:20231201T201745Z
UID:10000088-1699468200-1699475400@cb14brooklyn.com
SUMMARY:Community Environment\, Cultural Affairs and Economic Development Committee Meeting
DESCRIPTION:Date and Location\n\n\n\n\n\n\nOnline via Webex \n\n\n\n\n\n\n\n\nAgenda\n\n\n\n\nUpdate on Curbside Composting rollout in Brooklyn – Antonio Whitaker\, Assistant Director\, Bureau of Community Affairs\, NYC Department of Sanitation\n\n\n\nPresentation by New Yorkers for Parks to support maintenance and operations at city parks – Daniel Abram\, Project Manager: Research & Policy\, New Yorkers for Parks\n\n\n\nOther business\n\n\n\n\n\nBrooklyn Community Board 14 PresentationDownload\n\n\n\n2023-NY4P-Profiles_BK14Download
URL:https://cb14brooklyn.com/meeting/community-environment-cultural-affairs-and-economic-development-committee-meeting-november-2023/
LOCATION:Online via Webex
CATEGORIES:Committee Meetings,Community Environment, Cultural Affairs and Economic Development,Public Hearings
END:VEVENT
BEGIN:VEVENT
DTSTART;TZID=America/New_York:20231113T183000
DTEND;TZID=America/New_York:20231113T210000
DTSTAMP:20260420T134211
CREATED:20230711T153658Z
LAST-MODIFIED:20231221T185834Z
UID:10000069-1699900200-1699909200@cb14brooklyn.com
SUMMARY:November 2023 Board Meeting and Public Hearings
DESCRIPTION:Date and Location\n\n\n\n\n\n\nEast Midwood Jewish Center – 1625 Ocean Avenue  (directions).   \n\n\n\n\n\n\n\n\nSchedule\n\n\n\n\n6:30PM – Public Hearing on Retail Cannabis Dispensary Application: 1069 Flatbush Avenue\n\n\n\n6:40 PM – Public Hearing on Retail Cannabis Dispensary Application: 872 Flatbush Avenue\n\n\n\n6:50 PM – Public Hearing on Potential Community Residence at 1241 East 18th Street\n\n\n\n7:00 PM – Regular Monthly Meeting of Brooklyn Community Board 14\n\n\n\n\n\n\nAgenda and Minutes\n\n\n\n\n			\n			Public Hearing Agendas\n			\n		\n			\n\n6:30 PM – Public Hearing on Retail Cannabis Dispensary Application: 1069 Flatbush Avenue. Empire Park Consulting LLC has submitted a provisional license application to the Office of Cannabis Management to open a retail dispensary. Applicant representative: Raja R. Amar\, 914-309-8899. (updated) \n\n\n\n6:40 PM – Public Hearing on Retail Cannabis Dispensary Application: 872 Flatbush Avenue. Bud Bodega Inc has submitted a provisional license application to the Office of Cannabis Management to open a retail dispensary. Applicant representative: Dwayne Cremona\, 347-845-1169. \n\n\n\n6:50 PM – Public Hearing on Potential Community Residence at 1241 East 18th Street\, between Avenue M and Avenue L: HASC Center and the New York State Office for People with Developmental Disabilities (OPWDD) have submitted an application for a potential Community Residence to be located at 1241 East 18th Street\, between Avenue M and Avenue L\, within Community District 14\, in compliance with Section 41.34(e)(2) of the New York State Mental Hygiene Law. The proposed Community Residence will be located in a four-family brick semi-attached home for up to twelve (12) females\, aged 14-21\, who are intellectually disabled\, have a TBI\, or are on the autism spectrum. The agency will provide housing\, meals\, recreation\, companionship and continuous 24/7 supervision in a homelike environment staffed by professionals. Residence Sponsor: Sarky Metzger\, Assistant Director\, HASC\, 646-285-5306. \n\n\n		\n\n\n			\n			Board Meeting Agenda\n			\n		\n			\n\n\nCALL TO ORDER\n\n\n\nMINUTES\n\n\n\nDISTRICT MANAGER’S REPORT\n\n\n\nCHAIR’S REPORT\n\nRecommendation – Retail Cannabis Dispensary Application: 1069 Flatbush Avenue\n\n\n\n Recommendation – Retail Cannabis Dispensary Application: 872 Flatbush Avenue\n\n\n\nRecommendation – Potential Community Residence at 1241 East 18th Street\n\n\n\nBorough Board Report\n\n\n\n\n\nTOPICAL COMMITTEES – REPORTS AND ITEMS:\n\nCommunity Safety Committee\n\n\n\nHousing and Land Use Committee\n\n\n\nCommunity Environment\, Cultural Affairs and Economic Development Committee\n\n\n\nHuman Services Committee\n\n\n\nYouth Services\, Education and Libraries Committee\n\n\n\nTransportation Committee \n\n\n\n\n\nAD HOC COMMITTEES\n\nCB14 Flatbush African Burial Ground Task Force\n\n\n\n\n\nPUBLIC SESSION\n\n\n\nADJOURNMENT\n\n\n\n		\n\n\n			\n			Minutes\n			\n		\n			\n\n2023-11-Board Meeting Minutes (with addenda)-RatifiedDownload
URL:https://cb14brooklyn.com/meeting/november-2023-board-meeting/
LOCATION:East Midwood Jewish Center\, 1625 Ocean Avenue\, Brooklyn\, New York\, 11230\, United States
CATEGORIES:Board Meetings
END:VEVENT
BEGIN:VEVENT
DTSTART;TZID=America/New_York:20231120T183000
DTEND;TZID=America/New_York:20231120T203000
DTSTAMP:20260420T134211
CREATED:20231026T193207Z
LAST-MODIFIED:20231201T201343Z
UID:10000089-1700505000-1700512200@cb14brooklyn.com
SUMMARY:Human Services Committee Meeting
DESCRIPTION:Date and Location\n\n\n\n\n\n\nOnline via Webex \n\n\n\n\n\n\n\n\nAgenda\n\n\n\n\nPresentation on Senior Services provided by the New York State Office of the Attorney General – Darryl White\, Community Outreach\, Brooklyn Regional Office\, New York State Office of the Attorney General Letitia James\n\n\n\nPlanning for Lunch and Learn Health Series\n\n\n\nOther business
URL:https://cb14brooklyn.com/meeting/human-services-committee-meeting-november-2023/
LOCATION:Online via Webex
CATEGORIES:Committee Meetings,Human Services,Public Hearings
END:VEVENT
BEGIN:VEVENT
DTSTART;TZID=America/New_York:20231130T183000
DTEND;TZID=America/New_York:20231130T203000
DTSTAMP:20260420T134211
CREATED:20231026T193930Z
LAST-MODIFIED:20231218T160516Z
UID:10000090-1701369000-1701376200@cb14brooklyn.com
SUMMARY:Youth Services\, Education and Libraries Committee Meeting
DESCRIPTION:Date and Location\n\n\n\n\n\n\nOnline via Webex \n\n\n\n\n\n\n\n\nAgenda\n\n\n\n\nPresentation on the New Americans Initiative – Lorna Blancaflor\, Director\, and Beatrice Jean Claude\, Program Coordinator\, New Americans Initiative\, YMCA of Greater New York\n\n\n\nPresentation on Education and Career Services – Katje Lilah King\, Director of Education & Career Services\, NMIC\n\n\n\nPreliminary Planning for CB14’s 2024 Youth Conference\n\n\n\nOther business\n\n\n\n\n\n\n\n\n\n\n\n2023-NDA Flatbush PP 11302023Download
URL:https://cb14brooklyn.com/meeting/youth-services-education-and-libraries-committee-meeting-november-2023/
LOCATION:Online via Webex
CATEGORIES:Committee Meetings,Youth Services, Education and Libraries
END:VEVENT
END:VCALENDAR