BEGIN:VCALENDAR
VERSION:2.0
PRODID:-//Brooklyn Community Board 14 - ECPv6.15.20//NONSGML v1.0//EN
CALSCALE:GREGORIAN
METHOD:PUBLISH
X-WR-CALNAME:Brooklyn Community Board 14
X-ORIGINAL-URL:https://cb14brooklyn.com
X-WR-CALDESC:Events for Brooklyn Community Board 14
REFRESH-INTERVAL;VALUE=DURATION:PT1H
X-Robots-Tag:noindex
X-PUBLISHED-TTL:PT1H
BEGIN:VTIMEZONE
TZID:America/New_York
BEGIN:DAYLIGHT
TZOFFSETFROM:-0500
TZOFFSETTO:-0400
TZNAME:EDT
DTSTART:20220313T070000
END:DAYLIGHT
BEGIN:STANDARD
TZOFFSETFROM:-0400
TZOFFSETTO:-0500
TZNAME:EST
DTSTART:20221106T060000
END:STANDARD
BEGIN:DAYLIGHT
TZOFFSETFROM:-0500
TZOFFSETTO:-0400
TZNAME:EDT
DTSTART:20230312T070000
END:DAYLIGHT
BEGIN:STANDARD
TZOFFSETFROM:-0400
TZOFFSETTO:-0500
TZNAME:EST
DTSTART:20231105T060000
END:STANDARD
BEGIN:DAYLIGHT
TZOFFSETFROM:-0500
TZOFFSETTO:-0400
TZNAME:EDT
DTSTART:20240310T070000
END:DAYLIGHT
BEGIN:STANDARD
TZOFFSETFROM:-0400
TZOFFSETTO:-0500
TZNAME:EST
DTSTART:20241103T060000
END:STANDARD
END:VTIMEZONE
BEGIN:VEVENT
DTSTART;TZID=America/New_York:20231205T183000
DTEND;TZID=America/New_York:20231205T203000
DTSTAMP:20260420T115007
CREATED:20231127T173307Z
LAST-MODIFIED:20241220T203724Z
UID:10000091-1701801000-1701808200@cb14brooklyn.com
SUMMARY:Public Hearings (4) on OCM and ULURP Applications
DESCRIPTION:Date and Location\n\n\n\n\n\n\nCB14 District Office – 810 East 16th Street  (directions).   \n\n\n\n\n\n\nSchedule\n\n\n\n\n6:30 PM – Public Hearing on Retail Cannabis Dispensary Application: 507 Coney Island Avenue\n\n\n\n6:45 PM – Public Hearing on Retail Cannabis Dispensary Application: 501 Coney Island Avenue\n\n\n\n7:00 PM – Public Hearing on Retail Cannabis Dispensary Application: 1805 Church Avenue\n\n\n\n7:15 PM – Public Hearing on 817 Avenue H Rezoning\n\n\n\n\n\n\nAgenda\n\n\n\n(1) Retail Cannabis Dispensary Application: 507 Coney Island Avenue. Flatbush Flowers Inc. has submitted a provisional license application to the Office of Cannabis Management to open a retail dispensary. Applicant representative: Simone Cremona\, 917-405-2603 \n\n\n\n(2) Retail Cannabis Dispensary Application: 501 Coney Island Avenue. Bud Bodega Inc. has submitted a provisional license application to the Office of Cannabis Management to open a retail dispensary. Applicant representative: Dwayne Cremona\, 347-845-1169 \n\n\n\n(3) Retail Cannabis Dispensary Application: 1805 Church Avenue. FiendCity 2 Corp. has submitted a provisional license application to the Office of Cannabis Management to open a retail dispensary. Applicant representative: Charles Mackenzie\, 212-289-6570 \n\n\n\nRead NYS Office of Cannabis Management’s Adult-Use Retail Dispensary guide \n\n\n\n(4) 817 Avenue H Rezoning. ULURP No. C230323ZMK and N180497ZRK  A Zoning Map Amendment from R5/C1-3 (OP) Zoning District to R7A/C2-4 (OP) and Zoning Text Amendment to map a new MIH area to facilitate a new nine-story\, 69\,275 square-foot mixed-use development\, including 41\,348 square feet of residential space (approximately 42 dwelling units) and 22\,149 square feet of community facility space\, is being sought by Agudist Council of Greater New York. Applicant’s Representatives: David Rosenberg\, Phillips Nizer LLP\, (212) 841-0795More information and documents about this zoning application at NYC Department of City Planning’s Zoning Application Portal (ZAP)
URL:https://cb14brooklyn.com/meeting/public-hearings-4-december-2023/
LOCATION:Brooklyn CB14 District Office\, 810 East 16th Street\, Brooklyn\, NY\, 11230\, United States
CATEGORIES:Public Hearings
END:VEVENT
BEGIN:VEVENT
DTSTART;TZID=America/New_York:20231218T190000
DTEND;TZID=America/New_York:20231218T210000
DTSTAMP:20260420T115007
CREATED:20230711T153759Z
LAST-MODIFIED:20240813T145334Z
UID:10000070-1702926000-1702933200@cb14brooklyn.com
SUMMARY:December 2023 Board Meeting
DESCRIPTION:Date and Location\n\n\n\n\n\n\nEast Midwood Jewish Center – 1625 Ocean Avenue  (directions).   \n\n\n\n\n\n\n\n\nAgenda and Minutes\n\n\n\n\n			\n			Agenda\n			\n		\n			\n\n\nCALL TO ORDER\n\n\n\nMINUTES\n\n\n\nDISTRICT MANAGER’S REPORT\n\n\n\nCHAIR’S REPORT\n\nRecommendation – Retail Cannabis Dispensary Application: 507 Coney Island Avenue\n\n\n\nRecommendation – Retail Cannabis Dispensary Application: 501 Coney Island Avenue\n\n\n\nRecommendation – Retail Cannabis Dispensary Application: 1805 Church Avenue\n\n\n\nRecommendation – 817 Avenue H Rezoning \n\n\n\nBorough Board Report\n\n\n\n\n\nTOPICAL COMMITTEES – REPORTS AND ITEMS:\n\nHuman Services Committee\n\n\n\nYouth Services\, Education and Libraries Committee\n\n\n\nTransportation Committee\n\n\n\nCommunity Environment\, Cultural Affairs and Economic Development Committee\n\n\n\nCommunity Safety Committee\n\n\n\nHousing and Land Use Committee\n\n\n\n\n\nAD HOC COMMITTEES\n\nCB14 Flatbush African Burial Ground Task Force\n\n\n\n\n\nPUBLIC SESSION\n\n\n\nADJOURNMENT\n\n\n\n		\n\n\n			\n			Minutes\n			\n		\n			\n\n \n\n\n\n2023-12-Board Meeting Minutes-Ratified(with addenda)Download
URL:https://cb14brooklyn.com/meeting/december-2023-board-meeting/
LOCATION:East Midwood Jewish Center\, 1625 Ocean Avenue\, Brooklyn\, New York\, 11230\, United States
CATEGORIES:Board Meetings
END:VEVENT
BEGIN:VEVENT
DTSTART;TZID=America/New_York:20231221T183000
DTEND;TZID=America/New_York:20231221T203000
DTSTAMP:20260420T115007
CREATED:20231127T181117Z
LAST-MODIFIED:20231227T155256Z
UID:10000092-1703183400-1703190600@cb14brooklyn.com
SUMMARY:Transportation Committee Meeting
DESCRIPTION:Date and Location\n\n\n\n\n\n\nOnline via Webex \n\n\n\n\n\n\nAgenda\n\n\n\n\nReport on Truck Traffic Rules and Enforcement\, Capt. Badia and Lt. Bautista\, NYPD Transportation Bureau\n\n\n\nPresentation on City of Yes for Economic Opportunity proposal on distribution zones and their potential impactson last mile trucking\, Hanif Yazdi\, NYC Department of City Planning\n\n\n\nDiscussion about last mile trucking issues in CD 14\n\n\n\nOther business\n\n\n\n\n\n\n\n\n\n\n\n2023-2023.12.21 Last-Mile Coalition Presentation for Brooklyn Community Board 14Download\n\n\n\n2023 Last Mile Fact Sheet EN_LMC BrandedDownload
URL:https://cb14brooklyn.com/meeting/transportation-committee-meeting-december-2023/
LOCATION:Online via Webex
CATEGORIES:Committee Meetings,Transportation
ORGANIZER;CN="Brooklyn CB14":MAILTO:meetings@cb14brooklyn.com
END:VEVENT
END:VCALENDAR