BEGIN:VCALENDAR
VERSION:2.0
PRODID:-//Brooklyn Community Board 14 - ECPv6.15.20//NONSGML v1.0//EN
CALSCALE:GREGORIAN
METHOD:PUBLISH
X-ORIGINAL-URL:https://cb14brooklyn.com
X-WR-CALDESC:Events for Brooklyn Community Board 14
REFRESH-INTERVAL;VALUE=DURATION:PT1H
X-Robots-Tag:noindex
X-PUBLISHED-TTL:PT1H
BEGIN:VTIMEZONE
TZID:America/New_York
BEGIN:DAYLIGHT
TZOFFSETFROM:-0500
TZOFFSETTO:-0400
TZNAME:EDT
DTSTART:20230312T070000
END:DAYLIGHT
BEGIN:STANDARD
TZOFFSETFROM:-0400
TZOFFSETTO:-0500
TZNAME:EST
DTSTART:20231105T060000
END:STANDARD
BEGIN:DAYLIGHT
TZOFFSETFROM:-0500
TZOFFSETTO:-0400
TZNAME:EDT
DTSTART:20240310T070000
END:DAYLIGHT
BEGIN:STANDARD
TZOFFSETFROM:-0400
TZOFFSETTO:-0500
TZNAME:EST
DTSTART:20241103T060000
END:STANDARD
BEGIN:DAYLIGHT
TZOFFSETFROM:-0500
TZOFFSETTO:-0400
TZNAME:EDT
DTSTART:20250309T070000
END:DAYLIGHT
BEGIN:STANDARD
TZOFFSETFROM:-0400
TZOFFSETTO:-0500
TZNAME:EST
DTSTART:20251102T060000
END:STANDARD
END:VTIMEZONE
BEGIN:VEVENT
DTSTART;TZID=America/New_York:20240103T130000
DTEND;TZID=America/New_York:20240103T140000
DTSTAMP:20260420T100654
CREATED:20231220T201326Z
LAST-MODIFIED:20231220T212713Z
UID:10000093-1704286800-1704290400@cb14brooklyn.com
SUMMARY:Lunch & Learn: Diabetes Prevention
DESCRIPTION:
URL:https://cb14brooklyn.com/meeting/lunch-learn-diabetes-prevention-january-2024/
LOCATION:Online via Webex
CATEGORIES:CB14 Events,CB14 Meetings,Human Services
END:VEVENT
BEGIN:VEVENT
DTSTART;TZID=America/New_York:20240103T183000
DTEND;TZID=America/New_York:20240103T203000
DTSTAMP:20260420T100654
CREATED:20231221T173720Z
LAST-MODIFIED:20241220T203834Z
UID:10000098-1704306600-1704313800@cb14brooklyn.com
SUMMARY:Public Hearing on City of Yes for Economic Opportunity
DESCRIPTION:Date and Location\n\n\n\n\n\n\nCB14 District Office – 810 East 16th Street  (directions).   \n\n\n\n\n\n\nAgenda\n\n\n\nPublic Hearing on City of Yes for Economic Opportunity: Discussion of CB14’s draft recommendations on the proposed zoning text amendment – David Weissglass\, Department of City Planning  (DCP) \n\n\n\nExplore details of City of Yes for Economic Opportunity at DCP’s website. Watch DCP’s  presentation to CB14’s Housing and Land Use Committee at the November 1\, 2023 meeting \n\n\n\n\n\n\n\n\n\n\n\n\n\n\n\n\n\n\n\n\n\n\n\n\n2024-COYEO – CB14 Presentation – 1.3.24Download
URL:https://cb14brooklyn.com/meeting/public-hearing-january-2024/
LOCATION:Brooklyn CB14 District Office\, 810 East 16th Street\, Brooklyn\, NY\, 11230\, United States
CATEGORIES:Public Hearings
END:VEVENT
BEGIN:VEVENT
DTSTART;TZID=America/New_York:20240108T184500
DTEND;TZID=America/New_York:20240108T210000
DTSTAMP:20260420T100654
CREATED:20230711T153837Z
LAST-MODIFIED:20240213T191322Z
UID:10000071-1704739500-1704747600@cb14brooklyn.com
SUMMARY:January 2024 Board Meeting and Public Hearing
DESCRIPTION:Date and Location\n\n\n\n\n\n\nEast Midwood Jewish Center – 1625 Ocean Avenue  (directions).   \n\n\n\n\n\n\n\n\nSchedule\n\n\n\n\n6:45 PM – Public Hearing on Retail Cannabis Dispensary Application: 815 Flatbush Avenue\n\n\n\n7:00 PM – Regular Monthly Meeting of Brooklyn Community Board 14\n\n\n\n\n\n\nAgendas and Minutes\n\n\n\n\n			\n			Public Hearing Agenda\n			\n		\n			\n\nPublic Hearing on Retail Cannabis Dispensary Application: 815 Flatbush Avenue. HVCC Holding LLC has submitted a provisional license application to the Office of Cannabis Management to open a retail dispensary. Applicant representative: Alex Pia\, 914-719-6799 \n\n\n		\n\n\n			\n			Board Meeting Agenda\n			\n		\n			\n\n\nCALL TO ORDER\n\n\n\nMINUTES\n\n\n\nDISTRICT MANAGER’S REPORT\n\n\n\nCHAIR’S REPORT\n\nRecommendation – Retail Cannabis Dispensary Application: 815 Flatbush Avenue\n\n\n\nRecommendation – CB14’s Recommendations on City of Yes for Economic Opportunity\n\n\n\nBorough Board Report\n\n\n\nAppointment of a Nominating Committee\n\n\n\n\n\nTOPICAL COMMITTEES – REPORTS AND ITEMS:\n\nTransportation Committee\n\n\n\nHousing and Land Use Committee\n\n\n\nYouth Services\, Education and Libraries Committee\n\n\n\nHuman Services Committee\n\n\n\nCommunity Environment\, Cultural Affairs and Economic Development Committee\n\n\n\nCommunity Safety Committee\n\n\n\n\n\nAD HOC COMMITTEES\n\nCB14 Flatbush African Burial Ground Task Force\n\n\n\n\n\nPUBLIC SESSION\n\n\n\nADJOURNMENT\n\n\n\n		\n\n\n			\n			Minutes\n			\n		\n			\n\n2024-01-Board Meeting Minutes – with Addenda – RatifiedDownload
URL:https://cb14brooklyn.com/meeting/january-2024-board-meeting/
LOCATION:East Midwood Jewish Center\, 1625 Ocean Avenue\, Brooklyn\, New York\, 11230\, United States
CATEGORIES:Board Meetings
END:VEVENT
BEGIN:VEVENT
DTSTART;TZID=America/New_York:20240110T130000
DTEND;TZID=America/New_York:20240110T140000
DTSTAMP:20260420T100654
CREATED:20231220T205434Z
LAST-MODIFIED:20231220T212941Z
UID:10000094-1704891600-1704895200@cb14brooklyn.com
SUMMARY:Lunch & Learn: Diabetes Care and Nutrition
DESCRIPTION:
URL:https://cb14brooklyn.com/meeting/lunch-learn-diabetes-care-and-nutrition/
LOCATION:Online via Webex
CATEGORIES:CB14 Events,CB14 Meetings,Human Services
END:VEVENT
BEGIN:VEVENT
DTSTART;TZID=America/New_York:20240111T183000
DTEND;TZID=America/New_York:20240111T203000
DTSTAMP:20260420T100654
CREATED:20231221T180148Z
LAST-MODIFIED:20240131T184152Z
UID:10000099-1704997800-1705005000@cb14brooklyn.com
SUMMARY:Youth Services\, Education and Libraries Committee Meeting
DESCRIPTION:Date and Location\n\n\n\n\n\n\nOnline via Webex \n\n\n\n\n\n\n\n\nAgenda\n\n\n\n\nBrooklyn Public Library services and budget cuts – Charles Moran\, Kensington Branch\, Brooklyn Public Library\n\n\n\nContinued planning for CB14’s 2024 Annual Youth Conference\n\n\n\nOther business
URL:https://cb14brooklyn.com/meeting/youth-services-education-and-libraries-committee-meeting-january-2024/
LOCATION:Online via Webex
CATEGORIES:Committee Meetings,Youth Services, Education and Libraries
END:VEVENT
BEGIN:VEVENT
DTSTART;TZID=America/New_York:20240116T183000
DTEND;TZID=America/New_York:20240116T203000
DTSTAMP:20260420T100654
CREATED:20231221T180809Z
LAST-MODIFIED:20240131T184746Z
UID:10000100-1705429800-1705437000@cb14brooklyn.com
SUMMARY:Joint Executive and Legal Committees Meeting
DESCRIPTION:Date and Location\n\n\n\n\n\n\nOnline via Webex \n\n\n\n\n\n\nAgenda\n\n\n\n\nPublic Hearing practices (OCM\, Land Use\, other)\n\n\n\nCB14 Bylaws\, Parliamentary Procedure and Election rules for the Board \n\n\n\nPerformance Review for District Manager\n\n\n\nOther business
URL:https://cb14brooklyn.com/meeting/joint-executive-and-legal-committees-meeting-january-2024/
LOCATION:Brooklyn CB14 District Office\, 810 East 16th Street\, Brooklyn\, NY\, 11230\, United States
CATEGORIES:Committee Meetings,Executive,Legal Advisory
END:VEVENT
BEGIN:VEVENT
DTSTART;TZID=America/New_York:20240117T130000
DTEND;TZID=America/New_York:20240117T140000
DTSTAMP:20260420T100654
CREATED:20231220T205657Z
LAST-MODIFIED:20231220T212922Z
UID:10000095-1705496400-1705500000@cb14brooklyn.com
SUMMARY:Lunch & Learn: Healthy Lifestyles\, Programs and Services
DESCRIPTION:
URL:https://cb14brooklyn.com/meeting/lunch-amp-learn-healthy-lifestyles-programs-and-services-1/
LOCATION:Online via Webex
CATEGORIES:CB14 Events,CB14 Meetings,Human Services
END:VEVENT
BEGIN:VEVENT
DTSTART;TZID=America/New_York:20240118T183000
DTEND;TZID=America/New_York:20240118T203000
DTSTAMP:20260420T100654
CREATED:20231221T181416Z
LAST-MODIFIED:20240213T163117Z
UID:10000101-1705602600-1705609800@cb14brooklyn.com
SUMMARY:Community Environment\, Cultural Affairs and Economic Development Committee Meeting
DESCRIPTION:Date and Location\n\n\n\n\n\n\nOnline via Webex \n\n\n\n\n\n\n\n\nAgenda\n\n\n\n\nPreliminary report on flooding in CD14 – Paige Kloss\, Fund for the City of New York Planning Fellow\n\n\n\nPresentation on SBA programs for flood victims – Sharon Gadbois\, Small Business Administration \n\n\n\nCommittee review of City of Yes for Economic Opportunity zoning text amendment\n\n\n\nOther business\n\n\n\n\n\n\n\n\n\n\n\nFlooding Survey
URL:https://cb14brooklyn.com/meeting/community-environment-cultural-affairs-and-economic-development-committee-meeting-january-2024/
LOCATION:Online via Webex
CATEGORIES:Committee Meetings,Community Environment, Cultural Affairs and Economic Development,Public Hearings
END:VEVENT
BEGIN:VEVENT
DTSTART;TZID=America/New_York:20240123T183000
DTEND;TZID=America/New_York:20240123T203000
DTSTAMP:20260420T100654
CREATED:20231221T182015Z
LAST-MODIFIED:20240213T163759Z
UID:10000102-1706034600-1706041800@cb14brooklyn.com
SUMMARY:Community Safety Committee Meeting
DESCRIPTION:Date and Location\n\n\n\n\n\n\nOnline via Webex \n\n\n\n\n\n\n\n\nAgenda\n\n\n\n\nCommunity introduction to the 70th Precinct’s new Commanding Officer\, Deputy Inspector Gregory Mackie\n\n\n\nPrograms and services offered by the Kings County District Attorney’s Office – Nancy Lulu\, Office of Kings County District Attorney Eric Gonzalez\n\n\n\nOther business
URL:https://cb14brooklyn.com/meeting/community-safety-committee-meeting-january-2024/
LOCATION:Online via Webex
CATEGORIES:Committee Meetings,Community Safety
ORGANIZER;CN="Brooklyn CB14":MAILTO:meetings@cb14brooklyn.com
END:VEVENT
BEGIN:VEVENT
DTSTART;TZID=America/New_York:20240124T130000
DTEND;TZID=America/New_York:20240124T140000
DTSTAMP:20260420T100654
CREATED:20231220T205827Z
LAST-MODIFIED:20231220T212852Z
UID:10000096-1706101200-1706104800@cb14brooklyn.com
SUMMARY:Lunch & Learn: Healthy Lifestyles\, Programs and Services
DESCRIPTION:
URL:https://cb14brooklyn.com/meeting/lunch-amp-learn-healthy-lifestyles-programs-and-services-2/
LOCATION:Online via Webex
CATEGORIES:CB14 Events,CB14 Meetings,Human Services
END:VEVENT
BEGIN:VEVENT
DTSTART;TZID=America/New_York:20240124T183000
DTEND;TZID=America/New_York:20240124T203000
DTSTAMP:20260420T100654
CREATED:20240112T165806Z
LAST-MODIFIED:20240213T175812Z
UID:10000103-1706121000-1706128200@cb14brooklyn.com
SUMMARY:Committee of the Whole Hearing
DESCRIPTION:Date and Location\n\n\n\n\n\n\nCB14 District Office – 810 East 16th Street  (directions).   \n\n\n\n\n\n\n\n\nAgenda\n\n\n\n\nCB14’s consideration of City of Yes for Economic Opportunity\n\n\n\n\n\n\n			\n			About City of Yes for Economic Opportunity\n			\n		\n			\n\nExplore details of City of Yes for Economic Opportunity at DCP’s website. Watch DCP’s  presentation to CB14’s Housing and Land Use Committee at the November 1\, 2023 meeting and January 3\, 2024 public hearing. \n\n\n\n2024-COYEO – CB14 Presentation – 1.3.24Download
URL:https://cb14brooklyn.com/meeting/committee-of-the-whole-hearing-january-2024/
LOCATION:Brooklyn CB14 District Office\, 810 East 16th Street\, Brooklyn\, NY\, 11230\, United States
CATEGORIES:Board Meetings
END:VEVENT
BEGIN:VEVENT
DTSTART;TZID=America/New_York:20240131T130000
DTEND;TZID=America/New_York:20240131T140000
DTSTAMP:20260420T100654
CREATED:20231220T205928Z
LAST-MODIFIED:20231220T212814Z
UID:10000097-1706706000-1706709600@cb14brooklyn.com
SUMMARY:Lunch & Learn: Maternal Health Disparities
DESCRIPTION:
URL:https://cb14brooklyn.com/meeting/lunch-amp-learn-maternal-health-disparities/
LOCATION:Online via Webex
CATEGORIES:CB14 Events,CB14 Meetings,Human Services
END:VEVENT
END:VCALENDAR