BEGIN:VCALENDAR
VERSION:2.0
PRODID:-//Brooklyn Community Board 14 - ECPv6.15.20//NONSGML v1.0//EN
CALSCALE:GREGORIAN
METHOD:PUBLISH
X-ORIGINAL-URL:https://cb14brooklyn.com
X-WR-CALDESC:Events for Brooklyn Community Board 14
REFRESH-INTERVAL;VALUE=DURATION:PT1H
X-Robots-Tag:noindex
X-PUBLISHED-TTL:PT1H
BEGIN:VTIMEZONE
TZID:America/New_York
BEGIN:DAYLIGHT
TZOFFSETFROM:-0500
TZOFFSETTO:-0400
TZNAME:EDT
DTSTART:20240310T070000
END:DAYLIGHT
BEGIN:STANDARD
TZOFFSETFROM:-0400
TZOFFSETTO:-0500
TZNAME:EST
DTSTART:20241103T060000
END:STANDARD
BEGIN:DAYLIGHT
TZOFFSETFROM:-0500
TZOFFSETTO:-0400
TZNAME:EDT
DTSTART:20250309T070000
END:DAYLIGHT
BEGIN:STANDARD
TZOFFSETFROM:-0400
TZOFFSETTO:-0500
TZNAME:EST
DTSTART:20251102T060000
END:STANDARD
BEGIN:DAYLIGHT
TZOFFSETFROM:-0500
TZOFFSETTO:-0400
TZNAME:EDT
DTSTART:20260308T070000
END:DAYLIGHT
BEGIN:STANDARD
TZOFFSETFROM:-0400
TZOFFSETTO:-0500
TZNAME:EST
DTSTART:20261101T060000
END:STANDARD
END:VTIMEZONE
BEGIN:VEVENT
DTSTART;TZID=America/New_York:20250203T181500
DTEND;TZID=America/New_York:20250203T200000
DTSTAMP:20260419T125446
CREATED:20250116T144923Z
LAST-MODIFIED:20250212T145329Z
UID:10000154-1738606500-1738612800@cb14brooklyn.com
SUMMARY:Nominating Committee Meeting and Public Hearing on BSA Application
DESCRIPTION:Date and Location\n\n\n\n\n\n\nCB14 District Office – 810 East 16th Street  (directions).   \n\n\n\n\n\n\n\n\nSchedule and Agenda\n\n\n\n6:15PM – Nominating Committee Meeting \n\n\n\n\nAppointment of Committee Chairperson\n\n\n\nDiscussion of Executive Committee nominations\n\n\n\nOther business\n\n\n\n\n7:00PM – Public Hearing on BSA # 115-94-BZ – 2470 Bedford AvenueThis meeting is a continuation of CB14’s January 8\, 2025 public hearing on BSA #115-94-BZ. More information about this hearing. \n\n\n\nVARIANCE: An application has been filed with the Board of Standards and Appeals (BSA) pursuant to ZR Section 11-411 for an extension of term of a variance for the continued use of an automotive repair\, which expired on March 11\, 2022\, an amendment of the conditions of the previous resolution\, an extension of time to obtain a Certificate of Occupancy\, and a Waiver of Rules. 2470 Bedford Avenue\, (interior lot between Clarendon and Cortelyou Roads)\, Block 5167\, Lot 40\, BSA # 115-94-BZ – Applicant’s Representative: Eric Palatnik\, P.C.\, 212-425-4343
URL:https://cb14brooklyn.com/meeting/nominating-committee-meeting-and-public-hearing-on-bsa-application-february-2025/
LOCATION:Brooklyn CB14 District Office\, 810 East 16th Street\, Brooklyn\, NY\, 11230\, United States
CATEGORIES:Committee Meetings,Nominating,Public Hearings
END:VEVENT
BEGIN:VEVENT
DTSTART;TZID=America/New_York:20250205T183000
DTEND;TZID=America/New_York:20250205T203000
DTSTAMP:20260419T125447
CREATED:20250116T144922Z
LAST-MODIFIED:20250212T145903Z
UID:10000156-1738780200-1738787400@cb14brooklyn.com
SUMMARY:Community Environment\, Cultural Affairs and Economic Development Committee Meeting
DESCRIPTION:Date and Location\n\n\n\n\n\n\nOnline via Webex \n\n\n\n\n\n\n\n\nAgenda\n\n\n\n\nIntroduction to Metro Flood Defense\, Coastal Resiliency and Flood Protection Locally and Beyond – Sally Bowman\, Founder\, Metro Flood Defense\n\n\n\nCD 14 Parks Capital Projects Updates including the Lakeshore Project – Christian Zimmerman and Deborah Kirschner\, Prospect Park Alliance\n\n\n\nOther Business\n\n\n\n\n\nMetro Flood Defense-CB 14 Presentation 2_5_2025Download
URL:https://cb14brooklyn.com/meeting/community-environment-cultural-affairs-and-economic-development-committee-meeting-february-2025/
LOCATION:Online via Webex
CATEGORIES:Committee Meetings,Community Environment, Cultural Affairs and Economic Development
END:VEVENT
BEGIN:VEVENT
DTSTART;TZID=America/New_York:20250210T183000
DTEND;TZID=America/New_York:20250210T210000
DTSTAMP:20260419T125447
CREATED:20240528T165755Z
LAST-MODIFIED:20250317T153258Z
UID:10000126-1739212200-1739221200@cb14brooklyn.com
SUMMARY:February 2025 Board Meeting
DESCRIPTION:Date and Location\n\n\n\n\n\n\nEast Midwood Jewish Center – 1625 Ocean Avenue  (directions). \n\n\n\n\n\n\n\n\nSchedule\n\n\n\n\n6:30 PM – Public Hearing on Retail Cannabis Dispensary Application: 9 Newkirk Plaza. One Stop Deli & Candy Store Inc. has submitted a license application to the Office of Cannabis Management to open a retail dispensary. Applicant representative: Adam Zokari\, 347-774-5294\n\n\n\n6:45 PM – Public Hearing on Retail Cannabis Dispensary Application: 1584 Flatbush Avenue. JoJo Show LLC has submitted a license application to the Office of Cannabis Management to open a retail dispensary. Applicant representative: Jo-Anne Rainone\, 954-350-1300\n\n\n\n7:00 PM – Regular Monthly Meeting of Brooklyn Community Board 14\n\n\n\n\n\n\nAgenda and Minutes\n\n\n\n\n			\n			Board Meeting Agenda\n			\n		\n			\n\n\nCALL TO ORDER\n\n\n\nMINUTES\n\n\n\nDISTRICT MANAGER’S REPORT\n\n\n\nCHAIR’S REPORT\n\nRecommendation – Variance Application BSA # 115-94-BZ – 2470 Bedford Avenue\n\n\n\nRecommendation – Retail Cannabis Dispensary Application: 9 Newkirk Plaza\n\n\n\nRecommendation – Retail Cannabis Dispensary Application: 1584 Flatbush Avenue\n\n\n\nBorough Board Report\n\n\n\nNominating Committee Report\n\n\n\nNominations from the Floor\n\n\n\n\n\nTOPICAL COMMITTEES – REPORTS AND ITEMS:\n\nHuman Services Committee\n\n\n\nCommunity Safety Committee\n\n\n\nCommunity Environment\, Cultural Affairs and Economic Development Committee\n\n\n\nTransportation Committee\n\n\n\nHousing and Land Use Committee\n\n\n\nYouth Services\, Education and Libraries Committee\n\n\n\n\n\nAD HOC COMMITTEES\n\nTransition Committee\n\n\n\n\n\nPUBLIC SESSION\n\n\n\nADJOURNMENT\n\n\n\n		\n\n\n			\n			Minutes\n			\n		\n			\n\n2025-02-February Board Meeting Minutes with addenda-FinalDownload
URL:https://cb14brooklyn.com/meeting/february-2025-board-meeting/
LOCATION:East Midwood Jewish Center\, 1625 Ocean Avenue\, Brooklyn\, New York\, 11230\, United States
CATEGORIES:Board Meetings
END:VEVENT
BEGIN:VEVENT
DTSTART;TZID=America/New_York:20250219T183000
DTEND;TZID=America/New_York:20250219T203000
DTSTAMP:20260419T125447
CREATED:20250116T144922Z
LAST-MODIFIED:20250227T202551Z
UID:10000157-1739989800-1739997000@cb14brooklyn.com
SUMMARY:Transportation Committee Meeting
DESCRIPTION:Date and Location\n\n\n\n\n\n\nOnline via Webex \n\n\n\n\n\n\n\n\nAgenda\n\n\n\n\nBetter Buses for Flatbush Avenue – Participatory Action Research Report – Jolyse Race\, Senior Organizer\, Riders Alliance\n\n\n\nUpdate on OMNY Systems – Jordan Alexander\, Senior Director of OMNY Operations & Services\, MTA NYC Transit\n\n\n\nCommittee Discussion of DOT Engagement Process for CD14 Bike Lane Network\n\n\n\nOther Business  \n\n\n\n\n\n\n\nDownload documentDownload
URL:https://cb14brooklyn.com/meeting/transportation-committee-meeting-february-2025/
LOCATION:Online via Webex
CATEGORIES:Committee Meetings,Transportation
ORGANIZER;CN="Brooklyn CB14":MAILTO:meetings@cb14brooklyn.com
END:VEVENT
BEGIN:VEVENT
DTSTART;TZID=America/New_York:20250225T183000
DTEND;TZID=America/New_York:20250225T203000
DTSTAMP:20260419T125447
CREATED:20250211T173733Z
LAST-MODIFIED:20250227T202741Z
UID:10000159-1740508200-1740515400@cb14brooklyn.com
SUMMARY:Committee of the Whole Public Hearing on Dining Out NYC Applications (6)
DESCRIPTION:Date and Location\n\n\n\n\n\n\nCB14 District Office – 810 East 16th Street  (directions).   \n\n\n\n\n\n\n\n\nSchedule\n\n\n\n6:30 PM – Public Hearing on Dining Out NYC Applications – 1701 Foster Corp. DBA Rusty Nail\, 1701 Foster Avenue:\nSidewalk CaféRoadway Café\n6:50 PM – Public Hearing on Dining Out NYC Application – Beehumble Hospitality LLC DBA Lark Cafe\, 1007 Church Avenue\, Sidewalk Café\n7:00 PM – Public Hearing on Dining Out NYC Application – Coffee Mob Coffee Roasters LLC DBA Coffee Mob\, 1602 Newkirk Avenue\, Sidewalk Café\n7:10 PM – Public Hearing on Dining Out NYC Application – Sycamore Lee Corp DBA Sycamore\, 1118 Cortelyou Road\, Sidewalk Café\n7:20 PM – Public Hearing on Dining Out NYC Application – VJuice Inc DBA Very Juice\, 1815 Avenue M\, Roadway Café
URL:https://cb14brooklyn.com/meeting/committee-of-the-whole-public-hearing-on-dining-out-nyc-applications-february-2025/
LOCATION:Brooklyn CB14 District Office\, 810 East 16th Street\, Brooklyn\, NY\, 11230\, United States
CATEGORIES:Public Hearings
END:VEVENT
BEGIN:VEVENT
DTSTART;TZID=America/New_York:20250227T183000
DTEND;TZID=America/New_York:20250227T203000
DTSTAMP:20260419T125447
CREATED:20250116T144924Z
LAST-MODIFIED:20250303T173207Z
UID:10000155-1740681000-1740688200@cb14brooklyn.com
SUMMARY:Youth Services\, Education and Libraries Committee Meeting
DESCRIPTION:Date and Location\n\n\n\n\n\n\nOnline via Webex \n\n\n\n\n\n\n\n\nAgenda\n\n\n\n\nFinal Planning Session for CB14’s Youth Conference\n\n\n\nAssignments for Youth Conference Volunteers\n\n\n\nOther Business
URL:https://cb14brooklyn.com/meeting/youth-services-education-and-libraries-committee-meeting-february-2025/
LOCATION:Online via Webex
CATEGORIES:Committee Meetings,Youth Services, Education and Libraries
END:VEVENT
END:VCALENDAR