BEGIN:VCALENDAR
VERSION:2.0
PRODID:-//Brooklyn Community Board 14 - ECPv6.15.20//NONSGML v1.0//EN
CALSCALE:GREGORIAN
METHOD:PUBLISH
X-ORIGINAL-URL:https://cb14brooklyn.com
X-WR-CALDESC:Events for Brooklyn Community Board 14
REFRESH-INTERVAL;VALUE=DURATION:PT1H
X-Robots-Tag:noindex
X-PUBLISHED-TTL:PT1H
BEGIN:VTIMEZONE
TZID:America/New_York
BEGIN:DAYLIGHT
TZOFFSETFROM:-0500
TZOFFSETTO:-0400
TZNAME:EDT
DTSTART:20240310T070000
END:DAYLIGHT
BEGIN:STANDARD
TZOFFSETFROM:-0400
TZOFFSETTO:-0500
TZNAME:EST
DTSTART:20241103T060000
END:STANDARD
BEGIN:DAYLIGHT
TZOFFSETFROM:-0500
TZOFFSETTO:-0400
TZNAME:EDT
DTSTART:20250309T070000
END:DAYLIGHT
BEGIN:STANDARD
TZOFFSETFROM:-0400
TZOFFSETTO:-0500
TZNAME:EST
DTSTART:20251102T060000
END:STANDARD
BEGIN:DAYLIGHT
TZOFFSETFROM:-0500
TZOFFSETTO:-0400
TZNAME:EDT
DTSTART:20260308T070000
END:DAYLIGHT
BEGIN:STANDARD
TZOFFSETFROM:-0400
TZOFFSETTO:-0500
TZNAME:EST
DTSTART:20261101T060000
END:STANDARD
END:VTIMEZONE
BEGIN:VEVENT
DTSTART;TZID=America/New_York:20250505T183000
DTEND;TZID=America/New_York:20250505T203000
DTSTAMP:20260419T080502
CREATED:20250425T142151Z
LAST-MODIFIED:20250514T190858Z
UID:10000167-1746469800-1746477000@cb14brooklyn.com
SUMMARY:Transportation Committee Meeting
DESCRIPTION:Date and Location\n\n\n\n\n\n\nOnline via Webex \n\n\n\n\n\n\n\n\nAgenda\n\n\n\n\nBrooklyn Bus Network Redesign Update and Other MTA Business – Anthony Drummond\, Assistant Director\, Government & Community Relations\n\n\n\nIntroduction to the New York Public Transit Association – Carm Basile\, Chief Advocacy Officer\n\n\n\nOther Business  \n\n\n\n\n\n2025-NYPTA Orientation v2Download
URL:https://cb14brooklyn.com/meeting/transportation-committee-meeting-2025/
LOCATION:Online via Webex
CATEGORIES:Committee Meetings,Transportation
ORGANIZER;CN="Brooklyn CB14":MAILTO:meetings@cb14brooklyn.com
END:VEVENT
BEGIN:VEVENT
DTSTART;TZID=America/New_York:20250512T183000
DTEND;TZID=America/New_York:20250512T210000
DTSTAMP:20260419T080502
CREATED:20240528T170007Z
LAST-MODIFIED:20250612T203425Z
UID:10000129-1747074600-1747083600@cb14brooklyn.com
SUMMARY:May 2025 Board Meeting and Public Hearings on Street Co-Naming Proposal and OCM Application
DESCRIPTION:Date and Location\n\n\n\n\n\n\nEast Midwood Jewish Center – 1625 Ocean Avenue  (directions).   \n\n\n\n\n\n\n\n\nSchedule\n\n\n\n\n6:30 PM – Public Hearing on Proposal to Co-Name 1592 East 12th Street in honor of WWII Marine Sgt. Charlie J. Sciara\n\n\n\n6:40 PM – Public Hearing on Retail Cannabis Dispensary Application: 2180 Clarendon Road.  Animo CBD LLC has submitted a license application to the Office of Cannabis Management to open a retail dispensary. Applicant representative: Yadiel Buitron Hidalgo\, (646) 371-8367\n\n\n\n7:00 PM – Regular Monthly Meeting of Brooklyn Community Board 14\n\n\n\n\n\n\nAgenda and Minutes\n\n\n\n\n			\n			Board Meeting Agenda\n			\n		\n			\n\n\nCALL TO ORDER\n\n\n\nMINUTES\n\n\n\nDISTRICT MANAGER’S REPORT\n\n\n\nCHAIR’S REPORT\n\nRecommendation – Proposal to Co-Name 1592 East 12th Street in honor of WWII Marine Sgt. Charlie J. Sciara\n\n\n\nRecommendation – Retail Cannabis Dispensary Application: 2180 Clarendon Road\n\n\n\nBorough Board Report\n\n\n\n\n\nTOPICAL COMMITTEES – REPORTS AND ITEMS:\n\nCommunity Environment\, Cultural Affairs and Economic Development Committee\n\n\n\nHuman Services Committee\n\n\n\nCommunity Safety Committee\n\n\n\nTransportation Committee\n\n\n\nHousing and Land Use Committee\n\n\n\nYouth Services\, Education and Libraries Committee\n\n\n\n\n\nAD HOC COMMITTEES\n\nTransition Committee\n\n\n\n\n\nPUBLIC SESSION\n\n\n\nADJOURNMENT\n\n\n\n		\n\n\n			\n			Minutes\n			\n		\n			\n\nMinutes-2025-05-Board Meeting Minutes-with Addenda-FinalDownload
URL:https://cb14brooklyn.com/meeting/may-2025-board-meeting/
LOCATION:East Midwood Jewish Center\, 1625 Ocean Avenue\, Brooklyn\, New York\, 11230\, United States
CATEGORIES:Board Meetings,Public Hearings
END:VEVENT
BEGIN:VEVENT
DTSTART;TZID=America/New_York:20250519T183000
DTEND;TZID=America/New_York:20250519T203000
DTSTAMP:20260419T080502
CREATED:20250425T142148Z
LAST-MODIFIED:20250522T165514Z
UID:10000168-1747679400-1747686600@cb14brooklyn.com
SUMMARY:Housing and Land Use Committee Meeting
DESCRIPTION:Date and Location\n\n\n\n\n\n\nOnline via Webex \n\n\n\n\n\n\n\n\nAgenda\n\n\n\n\nCommunity Land Trust (CLT) 101 Training – Allyson Martinez\, Brooklyn Level Up\n\n\n\nLandmarks Discussion – Lisa Kersavage\, Executive Director\, and Steven Thompson\, Director of Community and Government Affairs\, Landmarks Preservation Commission\n\n\n\nOther Business\n\n\n\n\n\n\n\n\n\n\n\nOpen in a new tab
URL:https://cb14brooklyn.com/meeting/housing-and-land-use-committee-meeting-2025/
LOCATION:Online via Webex
CATEGORIES:Committee Meetings,Housing and Land Use
END:VEVENT
BEGIN:VEVENT
DTSTART;TZID=America/New_York:20250521T100000
DTEND;TZID=America/New_York:20250521T130000
DTSTAMP:20260419T080502
CREATED:20250425T132734Z
LAST-MODIFIED:20250502T134634Z
UID:10000170-1747821600-1747832400@cb14brooklyn.com
SUMMARY:13th Annual Nonprofit Roundtable
DESCRIPTION:Date and Location\n\n\n\n\n\nOHEL Children’s Home and Family Services \n\n\n\n\n\n\nThis meeting is open to invited nonprofit and city agency staff only. \n\n\n\n\n\nRepresentatives from nonprofit organizations and elected officials are invited to register to attend the 13th Annual CB14 Nonprofit Roundtable to participate in a conversation about district nonprofit services and resources.  \n\n\n\nInterested organizations should contact the Community Board 14 office at info@cb14brooklyn.com or 718-859-6357.
URL:https://cb14brooklyn.com/meeting/13th-annual-nonprofit-roundtable/
LOCATION:OHEL Children’s Home and Family Services\, Brooklyn\, New York
CATEGORIES:CB14 Events,Human Services,Nonprofit Roundtable
ORGANIZER;CN="Brooklyn CB14":MAILTO:meetings@cb14brooklyn.com
END:VEVENT
BEGIN:VEVENT
DTSTART;TZID=America/New_York:20250529T183000
DTEND;TZID=America/New_York:20250529T203000
DTSTAMP:20260419T080502
CREATED:20250425T142147Z
LAST-MODIFIED:20250605T141220Z
UID:10000169-1748543400-1748550600@cb14brooklyn.com
SUMMARY:Executive Committee Meeting
DESCRIPTION:Date and Location\n\n\n\n\n\n\nCB14 District Office – 810 East 16th Street  (directions).   \n\n\n\n\n\n\n\n\nAgenda\n\n\n\n\nNew Board Member Orientation\n\n\n\nCB14 Practices: Committee Meetings\, Public Hearings\, Permits and Licenses\n\n\n\n Performance Review for District Manager\n\n\n\nOther business
URL:https://cb14brooklyn.com/meeting/executive-committee-meeting-2025/
LOCATION:Brooklyn CB14 District Office\, 810 East 16th Street\, Brooklyn\, NY\, 11230\, United States
CATEGORIES:CB14 Meetings,Committee Meetings,Executive
END:VEVENT
END:VCALENDAR